BEGIN:VCALENDAR
VERSION:2.0
PRODID:-//ChamberMaster//Event Calendar 2.0//EN
METHOD:PUBLISH
X-PUBLISHED-TTL:P3D
REFRESH-INTERVAL:P3D
CALSCALE:GREGORIAN
BEGIN:VEVENT
DTSTART:20180911T020000Z
DTEND:20180911T040000Z
X-MICROSOFT-CDO-ALLDAYEVENT:FALSE
SUMMARY:Women in Climate Action Leadership
DESCRIPTION:In advance of the Global Climate Action Summit taking place in San Francisco September 12-14\, 2018\, Christ Church and the Wrigley Global Institute of Sustainability at Arizona State University are pleased to offer an evening in conversation with women from around the world who are leading the response to global climate change. Moderated by Jane Sloane\, Director of the Women's Empowerment Program for The Asia Foundation\, we will welcome climate change action leaders from India\, Bangladesh\, the South Pacific\, and Mongolia along with Amanda Ellis from the Wrigley Global Institute of Sustainability at Arizona State University\, Bishop Marc Andrus of the Episcopal Diocese of California\, and representatives from Episcopal Relief and Development in New York. This event is free to the public and finger food and drinks will be served.
X-ALT-DESC;FMTTYPE=text/html:In advance of the Global Climate Action Summit taking place in San Francisco September 12-14\, 2018\, Christ Church and the Wrigley Global Institute of Sustainability at Arizona State University are pleased to offer an evening in conversation with women from around the world who are leading the response to global climate change. Moderated by Jane Sloane\, Director of the Women&rsquo\;s Empowerment Program for The Asia Foundation\, we will welcome climate change action leaders from India\, Bangladesh\, the South Pacific\, and Mongolia along with Amanda Ellis from the Wrigley Global Institute of Sustainability at Arizona State University\, Bishop Marc Andrus of the Episcopal Diocese of California\, and representatives from Episcopal Relief and Development in New York. This event is free to the public and finger food and drinks will be served.
LOCATION:Christ Episcopal Church (Campbell Hal) 70 Santa Rosa Ave. Sausalito
UID:e.1780.1833
SEQUENCE:3
DTSTAMP:20260424T132107Z
URL:http://business.sausalito.org/events/details/women-in-climate-action-leadership-1833
END:VEVENT

END:VCALENDAR
