BEGIN:VCALENDAR
VERSION:2.0
PRODID:-//ChamberMaster//Event Calendar 2.0//EN
METHOD:PUBLISH
X-PUBLISHED-TTL:P3D
REFRESH-INTERVAL:P3D
CALSCALE:GREGORIAN
BEGIN:VEVENT
DTSTART:20200125T213000Z
DTEND:20200125T223000Z
X-MICROSOFT-CDO-ALLDAYEVENT:FALSE
SUMMARY:Wild Northern California Watersheds
DESCRIPTION:Northern California is made up of whole areas that resemble large funnels. The rainy season can turn a babbling brook into a natural force that is both exciting and dangerous. Can the tides impact the natural flow of fresh water? Join Ranger Linda and learn more about our incredible geologic formations\, changes in weather patterns\, and unpredictable land and river conditions as tributary waters flow to the sea.
X-ALT-DESC;FMTTYPE=text/html:Northern California is made up of whole areas that resemble large funnels. The rainy season can turn a babbling brook into a natural force that is both exciting and dangerous. Can the tides impact the natural flow of fresh water? Join Ranger Linda and learn more about our incredible geologic formations\, changes in weather patterns\, and unpredictable land and river conditions as tributary waters flow to the sea.
LOCATION:Bay Model Visitor Center 2100 Bridgeway Sausalito\, CA 94965 Phone: (415) 289-3007 http://www.spn.usace.army.mil/Missions/Recreation/Bay-Model-Visitor-Center/
UID:e.1780.2350
SEQUENCE:3
DTSTAMP:20260423T095118Z
URL:http://business.sausalito.org/events/details/wild-northern-california-watersheds-2350
END:VEVENT

END:VCALENDAR
