BEGIN:VCALENDAR
VERSION:2.0
PRODID:-//ChamberMaster//Event Calendar 2.0//EN
METHOD:PUBLISH
X-PUBLISHED-TTL:P3D
REFRESH-INTERVAL:P3D
CALSCALE:GREGORIAN
BEGIN:VEVENT
DTSTART:20191119T170000Z
DTEND:20200126T000000Z
X-MICROSOFT-CDO-ALLDAYEVENT:FALSE
SUMMARY:When Water Dreams – Art Exhibition
DESCRIPTION:Canadian artist/photographer Bill Peters presents large-scale color images of the salt ponds\, sloughs and wetlands of San Francisco Bay shot from a helicopter from 2009 through July of this year. The shoreline of San Francisco Bay is a crucible where the human forces that work on land and water intersect with nature. Infused with the graphic power and emotional sensibilities of formalist abstract art and color field painting\, Peters' work surprises: at first glance it appears fully abstract\, indistinguishable from paintings. On closer inspection\, however\, roads\, boats\, birds\, vehicles and vegetation reveal the work as stunning photographs of San Francisco Bay landscapes and waterscapes. Peters is an international visual artist who has had over 30 exhibitions in US and Canadian museums and galleries. His work is included in the Province of Alberta's collection.
X-ALT-DESC;FMTTYPE=text/html:Canadian artist/photographer Bill Peters presents large-scale color images of the salt ponds\, sloughs and wetlands of San Francisco Bay shot from a helicopter from 2009 through July of this year. The shoreline of San Francisco Bay is a crucible where the human forces that work on land and water intersect with nature. Infused with the graphic power and emotional sensibilities of formalist abstract art and color field painting\, Peters&rsquo\; work surprises: at first glance it appears fully abstract\, indistinguishable from paintings. On closer inspection\, however\, roads\, boats\, birds\, vehicles and vegetation reveal the work as stunning photographs of San Francisco Bay landscapes and waterscapes. Peters is an international visual artist who has had over 30 exhibitions in US and Canadian museums and galleries. His work is included in the Province of Alberta&rsquo\;s collection.
LOCATION:The Bay Model Visitor Center 2100 Bridgeway Sausalito\, CA 94965 Phone: (415) 289-3007 https://www.marinarts.org/event/bill-peters-when-water-dreams/ http://www.spn.usace.army.mil/Missions/Recreation/Bay-Model-Visitor-Center/
UID:e.1780.2241
SEQUENCE:3
DTSTAMP:20260423T094942Z
URL:http://business.sausalito.org/events/details/when-water-dreams-art-exhibition-2241
END:VEVENT

END:VCALENDAR
