BEGIN:VCALENDAR
VERSION:2.0
PRODID:-//ChamberMaster//Event Calendar 2.0//EN
METHOD:PUBLISH
X-PUBLISHED-TTL:P3D
REFRESH-INTERVAL:P3D
CALSCALE:GREGORIAN
BEGIN:VEVENT
DTSTART:20211202T000000Z
DTEND:20211202T020000Z
X-MICROSOFT-CDO-ALLDAYEVENT:FALSE
SUMMARY:Wednesday Night Live - Holiday Celebration
DESCRIPTION:This month we will participate in the Sausalito Holiday By the Bay Event Series brought to you by the City of Sausalito EDAC and Sausalito Chamber of Commerce.\n\n\n\nEnjoy music and art at different locations throughout Sausalito including in front of the former Bank of America on Bridgeway\, the Sausalito Visitor Center\, 22 El Portal\, Caledonia & Princess Streets. Businesses will be open late for your shopping enjoyment.\n\n	Sausalito Visitor Center - El Portal (2 5pm) Enjoy discounts\, sales and give-away exclusives from Visitor Center vendors!\n	Caledonia Street (Candy Cane Lane this month!) \n	Cascais Plaza (former BofA)   Bridgeway\n	Praca de Cascais Plaza or Vina Del Mar Park\n	Golden Gate Market @ 2nd & Bridgeway\n\nSee Sausalito Holiday by the Bay for a full schedule of events and this page for more details!\n\n\n\nSponsored by EDAC\, Sausalito Chamber of Commerce and Sausalito Parks & Recreation Department
X-ALT-DESC;FMTTYPE=text/html:This month we will participate in the Sausalito Holiday By the Bay Event Series brought to you by the City of Sausalito EDAC and Sausalito Chamber of Commerce.<br />\n<br />\nEnjoy music and art at different locations throughout Sausalito including in front of the former Bank of America on Bridgeway\, the Sausalito Visitor Center\, 22 El Portal\, Caledonia &amp\; Princess Streets. Businesses will be open late for your shopping enjoyment.\n<ul>\n	<li><span style="font-size:14px\;"><strong>Sausalito Visitor Center - El Portal (2&ndash\;5pm)</strong> <span style="font-family:arial\;">Enjoy<span style="caret-color: rgb(31\, 73\, 125)\; font-style: normal\; font-variant-caps: normal\; font-weight: normal\; letter-spacing: normal\; text-align: start\; text-indent: 0px\; text-transform: none\; white-space: normal\; word-spacing: 0px\; -moz-text-size-adjust: auto\; -webkit-text-stroke-width: 0px\; text-decoration: none\; display: inline !important\; float: none\;"> discounts\, sales and give-away exclusives from Visitor Center vendors!</span></span></span></li>\n	<li><span style="font-size:14px\;"><strong>Caledonia Street (Candy Cane Lane this month!) </strong></span></li>\n	<li><span style="font-size:14px\;"><strong>Cascais Plaza (former BofA) &ndash\; Bridgeway</strong></span></li>\n	<li><span style="font-size:14px\;"><strong>Praca de Cascais Plaza or Vina Del Mar Park</strong></span></li>\n	<li><span style="font-size:14px\;"><strong>Golden Gate Market @ 2nd &amp\; Bridgeway</strong></span></li>\n</ul>\n<a href="https://destinationsausalito.com/"><em>See Sausalito Holiday by the Bay for a full schedule of events</em></a><strong> and this page for more details!<br />\n<br />\n<em>Sponsored by EDAC\, Sausalito Chamber of Commerce and Sausalito Parks &amp\; Recreation Department</em></strong>
LOCATION:Throughout Sausalito on Bridgeway\, Caledonia\, Princess & El Portal
UID:e.1780.3076
SEQUENCE:3
DTSTAMP:20260421T205037Z
URL:http://business.sausalito.org/events/details/wednesday-night-live-holiday-celebration-3076
END:VEVENT

END:VCALENDAR
