BEGIN:VCALENDAR
VERSION:2.0
PRODID:-//ChamberMaster//Event Calendar 2.0//EN
METHOD:PUBLISH
X-PUBLISHED-TTL:P3D
REFRESH-INTERVAL:P3D
CALSCALE:GREGORIAN
BEGIN:VEVENT
DTSTART:20220707T003000Z
DTEND:20220707T020000Z
X-MICROSOFT-CDO-ALLDAYEVENT:FALSE
SUMMARY:Wednesday Night Live
DESCRIPTION:Wednesday Night Live   July 6\n\n\nA Series of Music and Art (First Wednesday of the Month)\n\n\n\n5:30 p.m.   7:00 p.m.   Caledonia & Pine Street \n\n\n\n\n\n\nDavey Jones & The Hot Clams\n\nThis favorite Sausalito-based vintage jazz band will play and sing hits from the 20s thrus the 50s and will entertain you on the Caledonia stage at Wednesday Night Live.  \n\n\n\nSponsored by EDAC\, Sausalito Chamber of Commerce\, and Sausalito Parks & Rec.
X-ALT-DESC;FMTTYPE=text/html:<div data-block="true" data-editor="1kp6b" data-offset-key="b2u87-0-0">\n<div class="public-DraftStyleDefault-block public-DraftStyleDefault-ltr" data-offset-key="b2u87-0-0">\n<div class="public-DraftStyleDefault-block public-DraftStyleDefault-ltr" data-offset-key="3eort-0-0"><span style="color: #000000\;"><strong>Wednesday Night Live </strong>&mdash\; July 6</span></div>\n</div>\n\n<div class="public-DraftStyleDefault-block public-DraftStyleDefault-ltr" data-offset-key="b2u87-0-0"><span data-offset-key="b2u87-0-0" style="color: #000000\;"><strong>A Series of Music and Art</strong> (First Wednesday of the Month)</span></div>\n</div>\n\n<div data-block="true" data-editor="1kp6b" data-offset-key="3im3m-0-0">\n<div class="public-DraftStyleDefault-block public-DraftStyleDefault-ltr" data-offset-key="4pdl3-0-0"><span data-offset-key="4pdl3-0-0" style="color: #000000\;">5:30 p.m. &ndash\; 7:00 p.m. &ndash\; </span>Caledonia &amp\; Pine Street<span data-offset-key="4pdl3-0-0" style="color: #000000\;"> </span></div>\n</div>\n\n<div data-block="true" data-editor="1kp6b" data-offset-key="9etmm-0-0">\n<div class="public-DraftStyleDefault-block public-DraftStyleDefault-ltr" data-offset-key="9etmm-0-0">\n<p><br />\nDavey Jones &amp\; The Hot Clams<br />\nThis favorite Sausalito-based vintage jazz band will play and sing hits from the 20s thrus the 50s and will entertain you on the Caledonia stage at <span style="color: #000000\;"><span style="font-family:arial\;">Wednesday Night Live.&nbsp\; </span></span><br />\n<br />\n<span style="font-family:arial\;"><em><span style="color: #000000\;">Sponsored by EDAC\, Sausalito Chamber of Commerce\, and Sausalito Parks &amp\; Rec.</span></em></span></p>\n</div>\n</div>\n
LOCATION:Wednesday Night Live July 6 A Series of Music and Art (First Wednesday of the Month) 5:30 p.m. 7:00 p.m. Caledonia & Pine Street
UID:e.1780.3488
SEQUENCE:3
DTSTAMP:20260421T083320Z
URL:http://business.sausalito.org/events/details/wednesday-night-live-3488
END:VEVENT

END:VCALENDAR
