BEGIN:VCALENDAR
VERSION:2.0
PRODID:-//ChamberMaster//Event Calendar 2.0//EN
METHOD:PUBLISH
X-PUBLISHED-TTL:P3D
REFRESH-INTERVAL:P3D
CALSCALE:GREGORIAN
BEGIN:VEVENT
DTSTART:20220602T003000Z
DTEND:20220602T020000Z
X-MICROSOFT-CDO-ALLDAYEVENT:FALSE
SUMMARY:Wednesday Night Live
DESCRIPTION:Wednesday Night Live   June 1\n\n\nA Series of Music and Art (First Wednesday of the Month)\n\n\n\n5:30 p.m.   7:00 p.m.   Caledonia & Pine Street \n\n\n\n\nMOSS ELEVEN\n\nJohn Rackerby & Patrick Aitken bring Classic Alternative-Rock & Beyond from the 80s\, 90s\, 00s Think Weezer\, Killers & Tom Petty and come rock out at the Caledonia stage at Wednesday Night Live. \n\n\n\nSponsored by EDAC\, Sausalito Chamber of Commerce\, and Sausalito Parks & Rec.
X-ALT-DESC;FMTTYPE=text/html:<div data-block="true" data-editor="1kp6b" data-offset-key="b2u87-0-0">\n<div class="public-DraftStyleDefault-block public-DraftStyleDefault-ltr" data-offset-key="b2u87-0-0">\n<div class="public-DraftStyleDefault-block public-DraftStyleDefault-ltr" data-offset-key="3eort-0-0"><span style="color: #000000\;"><strong>Wednesday Night Live </strong>&mdash\; June 1</span></div>\n</div>\n\n<div class="public-DraftStyleDefault-block public-DraftStyleDefault-ltr" data-offset-key="b2u87-0-0"><span data-offset-key="b2u87-0-0" style="color: #000000\;"><strong>A Series of Music and Art</strong> (First Wednesday of the Month)</span></div>\n</div>\n\n<div data-block="true" data-editor="1kp6b" data-offset-key="3im3m-0-0">\n<div class="public-DraftStyleDefault-block public-DraftStyleDefault-ltr" data-offset-key="4pdl3-0-0"><span data-offset-key="4pdl3-0-0" style="color: #000000\;">5:30 p.m. &ndash\; 7:00 p.m. &ndash\; </span>Caledonia &amp\; Pine Street<span data-offset-key="4pdl3-0-0" style="color: #000000\;"> </span></div>\n</div>\n\n<div data-block="true" data-editor="1kp6b" data-offset-key="9etmm-0-0">\n<div class="public-DraftStyleDefault-block public-DraftStyleDefault-ltr" data-offset-key="9etmm-0-0">\n<p><strong>MOSS ELEVEN</strong><br />\n<span style="color: #000000\;">John Rackerby &amp\; Patrick Aitken bring Classic Alternative-Rock &amp\; Beyond from the 80s\, 90s\, 00s&mdash\;Think Weezer\, Killers &amp\; Tom Petty and come rock out at the Caledonia stage at <span style="font-family: arial\;">Wednesday Night Live.&nbsp\;</span></span><br />\n<br />\n<span style="font-family:arial\;"><em><span style="color: #000000\;">Sponsored by EDAC\, Sausalito Chamber of Commerce\, and Sausalito Parks &amp\; Rec.</span></em></span></p>\n</div>\n</div>\n
LOCATION:Wednesday Night Live June 1 A Series of Music and Art (First Wednesday of the Month) 5:30 p.m. 7:00 p.m. Caledonia & Pine Street
UID:e.1780.3487
SEQUENCE:3
DTSTAMP:20260421T102857Z
URL:http://business.sausalito.org/events/details/wednesday-night-live-3487
END:VEVENT

END:VCALENDAR
