BEGIN:VCALENDAR
VERSION:2.0
PRODID:-//ChamberMaster//Event Calendar 2.0//EN
METHOD:PUBLISH
X-PUBLISHED-TTL:P3D
REFRESH-INTERVAL:P3D
CALSCALE:GREGORIAN
BEGIN:VEVENT
DTSTART:20220407T003000Z
DTEND:20220407T020000Z
X-MICROSOFT-CDO-ALLDAYEVENT:FALSE
SUMMARY:Wednesday Night Live
DESCRIPTION:Wednesday Night Live   April 6\n\nA Series of Music and Art\n\n(First Wednesday of the Month)\n\n5:30 p.m.   7:00 p.m.   Caledonia & Pine Street \n\n \n\nJoe and Pat DeBellis\n\nEnjoy Upbeat and Comedic songs that you all know. Come ready to laugh\, have fun and sing along on the streets for Sausalito's Wednesday Night Live! \n\n \n\nSponsored by EDAC\, Sausalito Chamber of Commerce\, and Sausalito Parks & Rec.
X-ALT-DESC;FMTTYPE=text/html:<p><strong>Wednesday Night Live &mdash\; April 6</strong><br />\n<em>A Series of Music and Art</em><br />\n(First Wednesday of the Month)</p>\n\n<div>5:30 p.m. &ndash\; 7:00 p.m. &ndash\; Caledonia &amp\; Pine Street&nbsp\;</div>\n\n<p>&nbsp\;<br />\n<strong>Joe and Pat DeBellis</strong><br />\nEnjoy Upbeat and Comedic songs that you all know. Come ready to laugh\, have fun and sing along on the streets for Sausalito&#39\;s Wednesday Night Live!&nbsp\;<br />\n&nbsp\;<br />\nSponsored by EDAC\, Sausalito Chamber of Commerce\, and Sausalito Parks &amp\; Rec.<br />\n&nbsp\;</p>\n
LOCATION:A Series of Music and Art (First Wednesday of the Month) Caledonia & Pine Street
UID:e.1780.3482
SEQUENCE:3
DTSTAMP:20260421T150849Z
URL:http://business.sausalito.org/events/details/wednesday-night-live-3482
END:VEVENT

END:VCALENDAR
