BEGIN:VCALENDAR
VERSION:2.0
PRODID:-//ChamberMaster//Event Calendar 2.0//EN
METHOD:PUBLISH
X-PUBLISHED-TTL:P3D
REFRESH-INTERVAL:P3D
CALSCALE:GREGORIAN
BEGIN:VEVENT
DTSTART:20220303T013000Z
DTEND:20220303T030000Z
X-MICROSOFT-CDO-ALLDAYEVENT:FALSE
SUMMARY:Wednesday Night Live
DESCRIPTION:Wednesday Night Live   March 2\n\n\nA Series of Music and Art (First Wednesday of the Month)\n\n\n\n5:30 p.m.   7:00 p.m.   Caledonia & Pine Street\n\n \n\n\n\n\nBRAD JAMES From the Houlihan's to the Fillmore\, Brad James returns to the streets for Sausalito's Wednesday Night Live.  \n\n\n\nAcoustic Guitar\, Harmonica & Rock Classics. Local Marin County talent makes it big on the streets of Sausalito! Join in the Fun\, Music and Rock out. Brad's repertoire includes the Eagles\, Bruce Springsteen\, and Neil Young\, among others. \n\n\n\nPlein air artists Jane Farley and Silvio Marcellino will set up their easels nearby.\n\n\n\nSponsored by EDAC\, Sausalito Chamber of Commerce\, and Sausalito Parks & Rec.
X-ALT-DESC;FMTTYPE=text/html:<div data-block="true" data-editor="1kp6b" data-offset-key="b2u87-0-0">\n<div class="public-DraftStyleDefault-block public-DraftStyleDefault-ltr" data-offset-key="b2u87-0-0">\n<div class="public-DraftStyleDefault-block public-DraftStyleDefault-ltr" data-offset-key="3eort-0-0"><span style="color: #000000\;"><strong>Wednesday Night Live </strong>&mdash\; March 2</span></div>\n</div>\n\n<div class="public-DraftStyleDefault-block public-DraftStyleDefault-ltr" data-offset-key="b2u87-0-0"><span data-offset-key="b2u87-0-0" style="color: #000000\;"><strong>A Series of Music and Art</strong> (First Wednesday of the Month)</span></div>\n</div>\n\n<div data-block="true" data-editor="1kp6b" data-offset-key="3im3m-0-0">\n<div class="public-DraftStyleDefault-block public-DraftStyleDefault-ltr" data-offset-key="4pdl3-0-0"><span data-offset-key="4pdl3-0-0" style="color: #000000\;">5:30 p.m. &ndash\; 7:00 p.m. &mdash\; Caledonia &amp\; Pine Street</span><br />\n&nbsp\;</div>\n</div>\n\n<div data-block="true" data-editor="1kp6b" data-offset-key="9etmm-0-0">\n<div class="public-DraftStyleDefault-block public-DraftStyleDefault-ltr" data-offset-key="9etmm-0-0">\n<p><span style="color: #000000\;"><strong>BRAD JAMES </strong><span style="font-family:arial\;">From the Houlihan&#39\;s to the Fillmore\, Brad James returns to the streets for Sausalito&#39\;s Wednesday Night Live.&nbsp\; </span></span><br />\n<br />\nAcoustic Guitar\, Harmonica &amp\; Rock Classics. Local Marin County talent makes it big on the streets of Sausalito! Join in the Fun\, Music and Rock out. Brad&#39\;s repertoire includes the Eagles\, Bruce Springsteen\, and Neil Young\, among others.&nbsp\;<br />\n<br />\nPlein air artists <strong>Jane Farley</strong> and <strong>Silvio Marcellino</strong> will set up their easels nearby.</p>\n</div>\n</div>\n\n<p><span style="font-family:arial\;"><em><span style="color: #000000\;">Sponsored by EDAC\, Sausalito Chamber of Commerce\, and Sausalito Parks &amp\; Rec.</span></em></span></p>\n
LOCATION:Wednesday Night Live March 2 A Series of Music and Art (First Wednesday of the Month) 5:30 p.m. 7:00 p.m. Caledonia & Pine Street
UID:e.1780.3481
SEQUENCE:3
DTSTAMP:20260421T170523Z
URL:http://business.sausalito.org/events/details/wednesday-night-live-3481
END:VEVENT

END:VCALENDAR
