BEGIN:VCALENDAR
VERSION:2.0
PRODID:-//ChamberMaster//Event Calendar 2.0//EN
METHOD:PUBLISH
X-PUBLISHED-TTL:P3D
REFRESH-INTERVAL:P3D
CALSCALE:GREGORIAN
BEGIN:VEVENT
DTSTART:20211007T000000Z
DTEND:20211007T020000Z
X-MICROSOFT-CDO-ALLDAYEVENT:FALSE
SUMMARY:Wednesday Night Live
DESCRIPTION:Brought to you by the City of Sausalito EDAC and Sausalito Chamber of Commerce.  Enjoy music and art at different locations throughout Sausalito including in front of the old Bank of America on Bridgeway\, the Sausalito Visitor Center\, 22 El Portal\, Caledonia & Princess Streets.  Businesses will be open late for your shopping enjoyment.\nHeld the First Wednesday of Each Month!\n\nOctober Locations or download a list\n\nCaledonia Street   Near Restaurant Row The James Moseley Duo   jazz\, rhythm and blues and hip sounds \n\nBank of America Building   Bridgeway West Coast Cool   jazz band with the music made famous by Dave Brubeck\, Stan Getz\, Chet Baker and Dave Pell. \n\nSausalito Visitor Center   El Portal featuring Artists\, along with demonstrations by Sausalito Pottery and LOVEMARIN \n\nPraca de Cascais Plaza or Vina Del Mar Park   Plein Air Artists: Gallery Sausalito: Sue Averell & Eva Belishova\n\nWatch this page for more details! Sponsored by EDAC\, Sausalito Chamber of Commerce and Sausalito Parks & Recreation Department
X-ALT-DESC;FMTTYPE=text/html:<em>Brought to you by the City of Sausalito EDAC and Sausalito Chamber of Commerce.&nbsp\; Enjoy music and art at different locations throughout Sausalito including in front of the old Bank of America on Bridgeway\, the Sausalito Visitor Center\, 22 El Portal\, Caledonia &amp\; Princess Streets.&nbsp\; Businesses will be open late for your shopping enjoyment.</em>\n<p>Held the <strong>First Wednesday of Each Month</strong>!</p>\n\n<p><strong><span style="color:#FFA07A\;">October Locations</span> or <a href="https://chambermaster.blob.core.windows.net/userfiles/UserFiles/chambers/1780/CMS/Events/Wednesday_Night_Live/October-6th-Wednesday-Night-Live-(002)ver1-final.pdf">download a list</a></strong></p>\n\n<p><strong>Caledonia Street </strong>&ndash\; Near Restaurant Row The James Moseley Duo &ndash\; jazz\, rhythm and blues and hip sounds&nbsp\;</p>\n\n<p><strong>Bank of America Building</strong> &ndash\; Bridgeway West Coast Cool &ndash\; jazz band with the music made famous by Dave Brubeck\, Stan Getz\, Chet Baker and Dave Pell.&nbsp\;</p>\n\n<p><strong>Sausalito Visitor Center</strong> &ndash\; El Portal featuring Artists\, along with demonstrations by Sausalito Pottery and LOVEMARIN&nbsp\;</p>\n\n<p><strong>Praca de Cascais Plaza or Vina Del Mar Park</strong> &ndash\; Plein Air Artists: Gallery Sausalito: Sue Averell &amp\; Eva Belishova</p>\n\n<p>Watch this page for more details! <em>Sponsored by EDAC\, Sausalito Chamber of Commerce and Sausalito Parks &amp\; Recreation Department</em></p>\n
LOCATION:Throughout Sausalito on Bridgeway\, Caledonia\, Princess & El Portal
UID:e.1780.3061
SEQUENCE:3
DTSTAMP:20260422T002551Z
URL:http://business.sausalito.org/events/details/wednesday-night-live-3061
END:VEVENT

END:VCALENDAR
