BEGIN:VCALENDAR
VERSION:2.0
PRODID:-//ChamberMaster//Event Calendar 2.0//EN
METHOD:PUBLISH
X-PUBLISHED-TTL:P3D
REFRESH-INTERVAL:P3D
CALSCALE:GREGORIAN
BEGIN:VEVENT
DTSTART:20210720T233000Z
DTEND:20210721T013000Z
X-MICROSOFT-CDO-ALLDAYEVENT:FALSE
SUMMARY:Visitor Center Grand Opening
DESCRIPTION:Celebrate with us the Grand Opening and Ribbon Cutting of the new Sausalito Chamber of Commerce Office & Visitor Center!\n\n\n\nAppetizers will be provided by Angelino's\, Poggio's and The Spinnaker. We encourage everyone attending to make dinner reservations at your favorite Sausalito restaurant after the event.\n\n\n\nPlease RSVP
X-ALT-DESC;FMTTYPE=text/html:Celebrate with us the Grand Opening and Ribbon Cutting of the new Sausalito Chamber of Commerce Office &amp\; Visitor Center!<br />\n<br />\nAppetizers will be provided by Angelino&#39\;s\, Poggio&#39\;s and The Spinnaker. We encourage everyone attending to make <a href="https://www.sausalito.org/list/ql/restaurants-food-beverages-22"><strong>dinner reservations</strong></a> at your favorite Sausalito restaurant after the event.<br />\n<br />\n<a href="http://events.r20.constantcontact.com/register/event?oeidk=a07ei9mp9ew37f7d5f5&amp\;llr=5cc6jxcab"><strong>Please RSVP</strong></a><br />\n&nbsp\;
LOCATION:22 El Portal\, Sausalito
UID:e.1780.2826
SEQUENCE:3
DTSTAMP:20260422T054630Z
URL:http://business.sausalito.org/events/details/visitor-center-grand-opening-2826
END:VEVENT

END:VCALENDAR
