BEGIN:VCALENDAR
VERSION:2.0
PRODID:-//ChamberMaster//Event Calendar 2.0//EN
METHOD:PUBLISH
X-PUBLISHED-TTL:P3D
REFRESH-INTERVAL:P3D
CALSCALE:GREGORIAN
BEGIN:VEVENT
DTSTART:20200522T003000Z
DTEND:20200522T020000Z
X-MICROSOFT-CDO-ALLDAYEVENT:FALSE
SUMMARY:Virtual Zoom Mixer - Visit Tivoli on Caledonia Street
DESCRIPTION:As we Shelter in Place we are going to continue our Virtual Zoom Mixers.  Tivoli (located on Caledonia) was supposed to be our host for the April Mixer and then SIP happened so we are going to take a virtual tour of the store\, have a few drinks together and play a little Music Trivia.
X-ALT-DESC;FMTTYPE=text/html:As we Shelter in Place we are going to continue our Virtual Zoom Mixers.&nbsp\; Tivoli (located on Caledonia) was supposed to be our host for the April Mixer and then SIP happened so we are going to take a virtual tour of the store\, have a few drinks together and play a little Music Trivia.
LOCATION:Via your laptop\, iPhone or iPad. In your comfy clothes with your favorite adult beverage. Topic: Virtual Mixer - Tour Tivoli - Music Trivia & Wine Time: May 21\, 2020 05:30 PM Pacific Time (US and Canada) Join Zoom Meeting https://us02web.zoom.us/j/82860972885?pwd=eDZNQTRINzJ3T0w2dG1meGhYbHo4dz09
UID:e.1780.2402
SEQUENCE:3
DTSTAMP:20260423T040456Z
URL:http://business.sausalito.org/events/details/virtual-zoom-mixer-visit-tivoli-on-caledonia-street-2402
END:VEVENT

END:VCALENDAR
