BEGIN:VCALENDAR
VERSION:2.0
PRODID:-//ChamberMaster//Event Calendar 2.0//EN
METHOD:PUBLISH
X-PUBLISHED-TTL:P3D
REFRESH-INTERVAL:P3D
CALSCALE:GREGORIAN
BEGIN:VEVENT
DTSTART:20200619T003000Z
DTEND:20200619T023000Z
X-MICROSOFT-CDO-ALLDAYEVENT:FALSE
SUMMARY:Virtual Mixer - Adele Gallery - Mixology - Art
DESCRIPTION:We will take a tour through Adele Art Gallery located on Pine Street\, learn a little some of her artists and learn how artistic we are with Art by Lucinda.  Please have a piece of white or light colored paper and something to drawing with\, pencil\, chalk\, pen etc.  Most of all say hello to those we have not seen in a while.
X-ALT-DESC;FMTTYPE=text/html:We will take a tour through Adele Art Gallery located on Pine Street\, learn a little some of her artists and learn how artistic we are with Art by Lucinda.&nbsp\; Please have a piece of white or light colored paper and something to drawing with\, pencil\, chalk\, pen etc.&nbsp\; Most of all say hello to those we have not seen in a while.
LOCATION:Topic: Virtual Mixer - Adele Art Gallery - Art by Lucinda Time: Jun 18\, 2020 05:30 PM Pacific Time (US and Canada) Join Zoom Mixer https://us02web.zoom.us/j/81821250897?pwd=MHpoZUtZMVN3VktueEJCSFZrSS9sZz09 Meeting ID: 818 2125 0897 Password: 328752
UID:e.1780.2407
SEQUENCE:3
DTSTAMP:20260423T040633Z
URL:http://business.sausalito.org/events/details/virtual-mixer-adele-gallery-mixology-art-2407
END:VEVENT

END:VCALENDAR
