BEGIN:VCALENDAR
VERSION:2.0
PRODID:-//ChamberMaster//Event Calendar 2.0//EN
METHOD:PUBLISH
X-PUBLISHED-TTL:P3D
REFRESH-INTERVAL:P3D
CALSCALE:GREGORIAN
BEGIN:VEVENT
DTSTART:20200506T003000Z
DTEND:20200506T020000Z
X-MICROSOFT-CDO-ALLDAYEVENT:FALSE
SUMMARY:Virtual Cinco de Mayo Mixer
DESCRIPTION:Our first Zoom Mixer - Your invite was delivered Sunday\, May 3rd via a Chamber email\, and will be in the May 5th Chamber Newsletter.  Order your Cinco de Mayo dinner from a local restaurant along with an adult beverage and join the fun\, with a positive story.  We will also have a special prize to give away.
X-ALT-DESC;FMTTYPE=text/html:Our first Zoom Mixer - Your invite was delivered Sunday\, May 3rd via a Chamber email\, and will be in the May 5th Chamber Newsletter.&nbsp\; Order your Cinco de Mayo dinner from a local restaurant along with an adult beverage and join the fun\, with a positive story.&nbsp\; We will also have a special prize to give away.&nbsp\;&nbsp\;
LOCATION:Via Zoom
UID:e.1780.2400
SEQUENCE:3
DTSTAMP:20260423T040620Z
URL:http://business.sausalito.org/events/details/virtual-cinco-de-mayo-mixer-2400
END:VEVENT

END:VCALENDAR
