BEGIN:VCALENDAR
VERSION:2.0
PRODID:-//ChamberMaster//Event Calendar 2.0//EN
METHOD:PUBLISH
X-PUBLISHED-TTL:P3D
REFRESH-INTERVAL:P3D
CALSCALE:GREGORIAN
BEGIN:VEVENT
DTSTART;VALUE=DATE:20190903
DTEND;VALUE=DATE:20190905
TRANSP:TRANSPARENT
X-MICROSOFT-CDO-ALLDAYEVENT:TRUE
SUMMARY:Vina Del Mar\, Chile Sister Cities Visit
DESCRIPTION:8 women business entrepreneurs from our sister city Vina Del Mar\, Chile will arrive 8/30.  They will study and participate in the sausalito arts festival learning about volunteerism\, festival operations\, and community engagement.   Following the SAF\, they will be participating in business workshops\, touring several Sausalito businesses to learn about retail and marketing operations.
X-ALT-DESC;FMTTYPE=text/html:8 women business entrepreneurs from our sister city Vina Del Mar\, Chile will arrive 8/30.&nbsp\; They will study and participate in the sausalito arts festival learning about volunteerism\, festival operations\, and community engagement. &nbsp\; Following the SAF\, they will be participating in business workshops\, touring several Sausalito businesses to learn about retail and marketing operations.&nbsp\;&nbsp\;&nbsp\;
LOCATION:
UID:e.1780.1972
SEQUENCE:3
DTSTAMP:20260423T154153Z
URL:http://business.sausalito.org/events/details/vina-del-mar-chile-sister-cities-visit-09-03-2019-1972
END:VEVENT

END:VCALENDAR
