BEGIN:VCALENDAR
VERSION:2.0
PRODID:-//ChamberMaster//Event Calendar 2.0//EN
METHOD:PUBLISH
X-PUBLISHED-TTL:P3D
REFRESH-INTERVAL:P3D
CALSCALE:GREGORIAN
BEGIN:VEVENT
DTSTART:20220215T001500Z
DTEND:20220215T030000Z
X-MICROSOFT-CDO-ALLDAYEVENT:FALSE
SUMMARY:Valentine's Day Sail on San Francisco Bay aboard Schooner Freda B
DESCRIPTION:Valentine's Day 2022- Sunset and Bay Lights Sail on San Francisco Bay\n\n\n\n\n\n\nAbout this event\n\n\n\nValentines Day 2022 Sunset and Bay Lights Sail on Schooner Freda B. Come celebrate the romance of yesteryear with us.\n\nAbout this event\n\nSailing is for lovers and friends. Join us in celebrating what generations in the bay area have been known for... LOVE. Step aboard the classic schooner Freda B and enjoy a magical trip back in time. Snuggle up or spend time with your BFF as we sail into the sunset. Catch views of the Golden Gate Bridge\, San Francisco Waterfront\, Angel Island\, Alcatraz and Sausalito waterfront.\n\n \n\nI left my heart in San Francisco and boarded a Schooner in Sausalito!\n\n \n\nSchooner Freda B:\n\n \n\nSchooner Freda B is a sea kind 80' gaff rigged coastal schooner\, making her one of the San Francisco Bay's most comfortable and traditional vessels to sail. Experience the romance of yesteryear and with a local\, licensed Captain and Professional Crew.
X-ALT-DESC;FMTTYPE=text/html:<div>\n<div>\n<div>\n<div><strong>Valentine&#39\;s Day 2022- Sunset and Bay Lights Sail on San Francisco Bay</strong></div>\n</div>\n</div>\n</div>\n\n<div>\n<div>\n<h2>About this event</h2>\n\n<div>\n<div>\n<p>Valentines Day 2022 Sunset and Bay Lights Sail on Schooner Freda B. Come celebrate the romance of yesteryear with us.</p>\n\n<p><strong>About this event</strong></p>\n\n<p>Sailing is for lovers and friends. Join us in celebrating what generations in the bay area have been known for... LOVE. Step aboard the classic schooner Freda B and enjoy a magical trip back in time. Snuggle up or spend time with your BFF as we sail into the sunset. Catch views of the Golden Gate Bridge\, San Francisco Waterfront\, Angel Island\, Alcatraz and Sausalito waterfront.</p>\n\n<p>&nbsp\;</p>\n\n<p>I left my heart in San Francisco and boarded a Schooner in Sausalito!</p>\n\n<p>&nbsp\;</p>\n\n<p><a href="https://schoonerfredab.com/" rel="nofollow noopener noreferrer" style="color: var(--eds-control\,#3659e3)\; text-decoration-line: none\; cursor: pointer\; background-color: transparent\; padding-top: 0px\;" target="_blank">Schooner Freda B:</a></p>\n\n<p>&nbsp\;</p>\n\n<p>Schooner Freda B is a sea kind 80&#39\; gaff rigged coastal schooner\, making her one of the San Francisco Bay&#39\;s most comfortable and traditional vessels to sail. Experience the romance of yesteryear and with a local\, licensed Captain and Professional Crew.</p>\n\n<div>&nbsp\;</div>\n</div>\n</div>\n</div>\n</div>\n
LOCATION:Schooner Freda B Sausalito Yacht Harbor\, Slip 465 Sausalito\, CA 94965
UID:e.1780.3192
SEQUENCE:3
DTSTAMP:20260421T170645Z
URL:http://business.sausalito.org/events/details/valentine-s-day-sail-on-san-francisco-bay-aboard-schooner-freda-b-3192
END:VEVENT

END:VCALENDAR
