BEGIN:VCALENDAR
VERSION:2.0
PRODID:-//ChamberMaster//Event Calendar 2.0//EN
METHOD:PUBLISH
X-PUBLISHED-TTL:P3D
REFRESH-INTERVAL:P3D
CALSCALE:GREGORIAN
BEGIN:VEVENT
DTSTART:20200215T013000Z
DTEND:20200215T050000Z
X-MICROSOFT-CDO-ALLDAYEVENT:FALSE
SUMMARY:Valentine's Day Dinner @ Cavallo Point
DESCRIPTION:Come to Cavallo Point Lodge and join us at Murray Circle for a romantic evening featuring a four-course Valentine's dinner\, paired alongside wine selections from our Grand Award-winning cellar.\n\n\n\nPlease call 415-339-4751 for reservations.
X-ALT-DESC;FMTTYPE=text/html:<span style="background-color:rgb(252\, 251\, 247)\; color:rgb(85\, 85\, 85)\; font-family:avenir lt w01_55 roman1475520\,sans-serif\; font-size:16px">Come to Cavallo Point Lodge and join us at Murray Circle for a romantic evening featuring a four-course Valentine&#39\;s dinner\, paired alongside wine selections from our Grand Award-winning cellar.<br />\n<br />\nPlease call 415-339-4751 for reservations.</span>
LOCATION:Murray Circle Restaurant @ Cavallo Point Lodge 602 Murray Circle Sausalito\, CA 94965
UID:e.1780.2361
SEQUENCE:3
DTSTAMP:20260423T082327Z
URL:http://business.sausalito.org/events/details/valentine-s-day-dinner-cavallo-point-2361
END:VEVENT

END:VCALENDAR
