BEGIN:VCALENDAR
VERSION:2.0
PRODID:-//ChamberMaster//Event Calendar 2.0//EN
METHOD:PUBLISH
X-PUBLISHED-TTL:P3D
REFRESH-INTERVAL:P3D
CALSCALE:GREGORIAN
BEGIN:VEVENT
DTSTART:20210816T180000Z
DTEND:20210816T230000Z
X-MICROSOFT-CDO-ALLDAYEVENT:FALSE
SUMMARY:Trunk Show - Sweet Things in Life
DESCRIPTION:"Sweet Things in Life" - Trunk show features Marin artist Pat Doherty\, known for her paintings of sweet treats and animals.  Angelino's pastries and artist Noah\, who donates a portion of his sales to Autism Charities.
X-ALT-DESC;FMTTYPE=text/html:&quot\;Sweet Things in Life&quot\; - Trunk show features Marin artist Pat Doherty\, known for her paintings of sweet treats and animals.&nbsp\; Angelino&#39\;s pastries and artist Noah\, who donates a portion of his sales to Autism Charities.
LOCATION:22 El Portal\, Sausalito New Chamber of Commerce Visitor Center
UID:e.1780.3055
SEQUENCE:3
DTSTAMP:20260422T035402Z
URL:http://business.sausalito.org/events/details/trunk-show-sweet-things-in-life-3055
END:VEVENT

END:VCALENDAR
