BEGIN:VCALENDAR
VERSION:2.0
PRODID:-//ChamberMaster//Event Calendar 2.0//EN
METHOD:PUBLISH
X-PUBLISHED-TTL:P3D
REFRESH-INTERVAL:P3D
CALSCALE:GREGORIAN
BEGIN:VEVENT
DTSTART:20191209T010000Z
DTEND:20191209T040000Z
X-MICROSOFT-CDO-ALLDAYEVENT:FALSE
SUMMARY:Tree Lighting Festival at Cavallo Point
DESCRIPTION:Kick off the holiday season with complimentary fun for families and adults. Enjoy carriage rides\, photos with Santa\, holiday shopping with local artisans\, live caroling from local students\, and hot cocoa and sweet treats for the kids. The evening culminates with the ceremonial lighting of a giant tree\, to officially start the season's festivities.
X-ALT-DESC;FMTTYPE=text/html:<p>Kick off the holiday season with complimentary fun for families and adults. Enjoy carriage rides\, photos with Santa\, holiday shopping with local artisans\, live caroling from local students\, and hot cocoa and sweet treats for the kids. The evening culminates with the ceremonial lighting of a giant tree\, to officially start the season&#39\;s festivities.</p>\n
LOCATION:Cavallo Point Lodge at the Golden Gate 601 Murray Circle Sausalito\, CA 94965
UID:e.1780.2336
SEQUENCE:3
DTSTAMP:20260423T110919Z
URL:http://business.sausalito.org/events/details/tree-lighting-festival-at-cavallo-point-2336
END:VEVENT

END:VCALENDAR
