BEGIN:VCALENDAR
VERSION:2.0
PRODID:-//ChamberMaster//Event Calendar 2.0//EN
METHOD:PUBLISH
X-PUBLISHED-TTL:P3D
REFRESH-INTERVAL:P3D
CALSCALE:GREGORIAN
BEGIN:VEVENT
DTSTART:20190604T230000Z
DTEND:20190605T010000Z
X-MICROSOFT-CDO-ALLDAYEVENT:FALSE
SUMMARY:Travel To Tuscany in 2020
DESCRIPTION:Travel with a group to Tuscany\, March 14-22\, 2020.  Attend a presentation about the trip and find out what cities you will visit and the sights you will enjoy on a 10 day vacation tour. Prices include airfare\, ride to & from airport\, tour guide and most meals.\n\n$3\,299 (Single Traveler) \n\n$2\,999 (Double)\n\n$2\,969 (Triple )
X-ALT-DESC;FMTTYPE=text/html:Travel with a group to Tuscany\, March 14-22\, 2020.&nbsp\; Attend a presentation about the trip and find out what cities you will visit and the sights you will enjoy on a 10 day vacation tour. Prices include airfare\, ride to &amp\; from airport\, tour guide and most meals.<br />\n$3\,299 (Single Traveler)&nbsp\;<br />\n$2\,999 (Double)<br />\n$2\,969 (Triple )&nbsp\;
LOCATION:Edgewater Room - Sausalito City Hall - 420 Litho Street
UID:e.1780.1918
SEQUENCE:3
DTSTAMP:20260423T221327Z
URL:http://business.sausalito.org/events/details/travel-to-tuscany-in-2020-1918
END:VEVENT

END:VCALENDAR
