BEGIN:VCALENDAR
VERSION:2.0
PRODID:-//ChamberMaster//Event Calendar 2.0//EN
METHOD:PUBLISH
X-PUBLISHED-TTL:P3D
REFRESH-INTERVAL:P3D
CALSCALE:GREGORIAN
BEGIN:VEVENT
DTSTART:20200123T000000Z
DTEND:20200123T010000Z
X-MICROSOFT-CDO-ALLDAYEVENT:FALSE
SUMMARY:Travel to Morocco Presentation
DESCRIPTION:Attend a presentation from Collette Explorations\, about the upcoming travel opportunity to Morocco. This is a Small Group travel experience\, max. 15 people. Find out the experiences and cities that will be visited. If you attend the meeting receive a $200 savings on your booking.\n\n\n\n \n\n\n\nYou do not need to be a Sausalito Chamber Member or resident to travel with us. Everyone from all over the US are welcome.\n\n\n\n \n\n\n\nSingle Traveler (includes Airfare) $4\,449\, Double (includes Airfare) $3\,899.\n\n\n\n \n\n\n\nIf you have travel miles you would like to use that can be arranged. For more information contact Lisa at 415-457-7186 or email Lisa@thecruiseexperience.com
X-ALT-DESC;FMTTYPE=text/html:<div data-contents="true">\n<div data-block="true" data-editor="c6iu4" data-offset-key="dj4n-0-0">\n<div class="_1mf _1mj" data-offset-key="dj4n-0-0"><span data-offset-key="dj4n-0-0"><span data-text="true">Attend a presentation from Collette Explorations\, about the upcoming travel opportunity to Morocco. This is a Small Group travel experience\, max. 15 people. Find out the experiences and cities that will be visited. If you attend the meeting receive a $200 savings on your booking.</span></span></div>\n</div>\n\n<div data-block="true" data-editor="c6iu4" data-offset-key="1dim4-0-0">\n<div class="_1mf _1mj" data-offset-key="1dim4-0-0">&nbsp\;</div>\n</div>\n\n<div data-block="true" data-editor="c6iu4" data-offset-key="7rnm2-0-0">\n<div class="_1mf _1mj" data-offset-key="7rnm2-0-0"><span data-offset-key="7rnm2-0-0"><span data-text="true">You do not need to be a Sausalito Chamber Member or resident to travel with us. Everyone from all over the US are welcome.</span></span></div>\n</div>\n\n<div data-block="true" data-editor="c6iu4" data-offset-key="eostv-0-0">\n<div class="_1mf _1mj" data-offset-key="eostv-0-0">&nbsp\;</div>\n</div>\n\n<div data-block="true" data-editor="c6iu4" data-offset-key="7m20s-0-0">\n<div class="_1mf _1mj" data-offset-key="7m20s-0-0"><span data-offset-key="7m20s-0-0"><span data-text="true">Single Traveler (includes Airfare) $4\,449\, Double (includes Airfare) $3\,899.</span></span></div>\n</div>\n\n<div data-block="true" data-editor="c6iu4" data-offset-key="9a07b-0-0">\n<div class="_1mf _1mj" data-offset-key="9a07b-0-0">&nbsp\;</div>\n</div>\n\n<div data-block="true" data-editor="c6iu4" data-offset-key="7obdq-0-0">\n<div class="_1mf _1mj" data-offset-key="7obdq-0-0"><span data-offset-key="7obdq-0-0"><span data-text="true">If you have travel miles you would like to use that can be arranged. For more information contact Lisa at 415-457-7186 or email Lisa@thecruiseexperience.com</span></span></div>\n</div>\n</div>\n
LOCATION:Edgewater Room - City Hall 420 Litho Street Sausalito\, CA 94965
UID:e.1780.2359
SEQUENCE:3
DTSTAMP:20260423T094948Z
URL:http://business.sausalito.org/events/details/travel-to-morocco-presentation-2359
END:VEVENT

END:VCALENDAR
