BEGIN:VCALENDAR
VERSION:2.0
PRODID:-//ChamberMaster//Event Calendar 2.0//EN
METHOD:PUBLISH
X-PUBLISHED-TTL:P3D
REFRESH-INTERVAL:P3D
CALSCALE:GREGORIAN
BEGIN:VEVENT
DTSTART:20181031T013000Z
DTEND:20181031T030000Z
X-MICROSOFT-CDO-ALLDAYEVENT:FALSE
SUMMARY:Travel to Ireland Info Meeting
DESCRIPTION:Travel to Ireland\n\nSeptember 25 - October 5 2019\n\n \n\nIf you are interested in seeing the Emerald Isle...the land of green. \n\nWe are planning a trip!\n\n \n\n \n\nInvite your friends\, family and neighbors to join us on a 10 day exploration/vacation\, as we visit Ireland's castles\, kiss the Blarney Stone and tour the Guinness factory email Juli if you are interested in attending the October meeting.
X-ALT-DESC;FMTTYPE=text/html:<div align="center" style="color: rgb(2\, 2\, 2)\; font-family: Arial\, Verdana\, Helvetica\, sans-serif\; font-size: 12px\; text-align: center\;"><span style="font-size: 16px\; color: rgb(10\, 116\, 219)\; font-weight: bold\;">Travel to Ireland</span></div>\n\n<div align="center" style="color: rgb(2\, 2\, 2)\; font-family: Arial\, Verdana\, Helvetica\, sans-serif\; font-size: 12px\; text-align: center\;"><span style="font-size: 16px\; color: rgb(10\, 116\, 219)\; font-weight: bold\;">September 25 - October 5 2019</span></div>\n\n<div style="color: rgb(2\, 2\, 2)\; font-family: Arial\, Verdana\, Helvetica\, sans-serif\; font-size: 12px\;">&nbsp\;</div>\n\n<div align="center" style="color: rgb(2\, 2\, 2)\; font-family: Arial\, Verdana\, Helvetica\, sans-serif\; font-size: 12px\; text-align: center\;"><span style="font-size: 14px\;">If you are interested in seeing the Emerald Isle</span><span style="font-size: 14px\; color: rgb(45\, 219\, 42)\; font-weight: bold\;">...</span><span style="font-size: 14px\; color: rgb(56\, 123\, 55)\; font-weight: bold\; font-style: italic\;">the land of green.</span><span style="font-size: 14px\; color: rgb(45\, 219\, 42)\; font-weight: bold\;">&nbsp\;</span><br />\n<span style="font-size: 14px\;">We are planning a trip!</span></div>\n\n<div align="center" style="color: rgb(2\, 2\, 2)\; font-family: Arial\, Verdana\, Helvetica\, sans-serif\; font-size: 12px\; text-align: center\;">&nbsp\;</div>\n\n<div style="color: rgb(2\, 2\, 2)\; font-family: Arial\, Verdana\, Helvetica\, sans-serif\; font-size: 12px\;">&nbsp\;</div>\n\n<div style="color: rgb(2\, 2\, 2)\; font-family: Arial\, Verdana\, Helvetica\, sans-serif\; font-size: 12px\;"><span style="font-size: 14px\;">Invite your friends\, family and neighbors to join us on a 10 day exploration/vacation\, as we visit Ireland&#39\;s castles\, kiss the Blarney Stone and tour the Guinness factory email&nbsp\;</span><a href="mailto:juli@sausalito.org" style="font-size: 14px\; color: rgb(10\, 116\, 219)\;" target="_blank">Juli</a><span style="font-size: 14px\;">&nbsp\;</span><span style="font-size: 14px\;">if you are interested in attending the October meeting.</span></div>\n
LOCATION:Informational meetings will be held at Studio 333 Caledonia Street.
UID:e.1780.1853
SEQUENCE:3
DTSTAMP:20260424T111829Z
URL:http://business.sausalito.org/events/details/travel-to-ireland-info-meeting-1853
END:VEVENT

END:VCALENDAR
