BEGIN:VCALENDAR
VERSION:2.0
PRODID:-//ChamberMaster//Event Calendar 2.0//EN
METHOD:PUBLISH
X-PUBLISHED-TTL:P3D
REFRESH-INTERVAL:P3D
CALSCALE:GREGORIAN
BEGIN:VEVENT
DTSTART:20210416T170000Z
DTEND:20210416T180000Z
X-MICROSOFT-CDO-ALLDAYEVENT:FALSE
SUMMARY:Town Hall with Senator McGuire
DESCRIPTION:Town Hall with Senator Mike McGuire.  Receive updates on the States COVID Recovery\, vaccinations and other critical information.  If you have questions you would like us to ask the Senator please email them to juli@sausalito.org by March 30th.  \n\n\n\n\n\nYou are invited to Register for the Event\n\nWhen: Apr 16\, 2021 10:00 AM Pacific Time (US and Canada) \n\nRegister in advance for this meeting:\n\nhttps://us02web.zoom.us/meeting/register/tZUld-qupjkqH9C35mue44Xr3b83IOaUGL1b \n\n\n\nAfter registering\, you will receive a confirmation email containing information about joining the meeting.
X-ALT-DESC;FMTTYPE=text/html:Town Hall with Senator Mike McGuire.&nbsp\; Receive updates on the States COVID Recovery\, vaccinations and other critical information.&nbsp\; If you have questions you would like us to ask the Senator please email them to juli@sausalito.org by March 30th.&nbsp\;&nbsp\;<br />\n<br />\n<br />\nYou are invited to Register for the Event<br />\nWhen: Apr 16\, 2021 10:00 AM Pacific Time (US and Canada)&nbsp\;<br />\nRegister in advance for this meeting:<br />\nhttps://us02web.zoom.us/meeting/register/tZUld-qupjkqH9C35mue44Xr3b83IOaUGL1b&nbsp\;<br />\n<br />\nAfter registering\, you will receive a confirmation email containing information about joining the meeting.<br />\n&nbsp\;
LOCATION:Via Zoom - Pre-Registration is Required
UID:e.1780.2810
SEQUENCE:3
DTSTAMP:20260422T110427Z
URL:http://business.sausalito.org/events/details/town-hall-with-senator-mcguire-2810
END:VEVENT

END:VCALENDAR
