BEGIN:VCALENDAR
VERSION:2.0
PRODID:-//ChamberMaster//Event Calendar 2.0//EN
METHOD:PUBLISH
X-PUBLISHED-TTL:P3D
REFRESH-INTERVAL:P3D
CALSCALE:GREGORIAN
BEGIN:VEVENT
DTSTART:20200710T153000Z
DTEND:20200710T163000Z
X-MICROSOFT-CDO-ALLDAYEVENT:FALSE
SUMMARY:Town Hall Meeting - Dr. Willis\, County & City Staff - COVID Update
DESCRIPTION:Town Hall Meeting with Supervisor Damon Connolly\, who serves on the Marin Economic Recovery Committee\, along with Max Korten who chairs the committee.  Dr. Willis\, Marin County Health Department and other county officials.  We will also have Sausalito City Staff\, and others with updates on where we go from here.\n\n\n\nAs things are changing daily as needed we will make adjustments in the other speakers.
X-ALT-DESC;FMTTYPE=text/html:Town Hall Meeting with Supervisor Damon Connolly\, who serves on the Marin Economic Recovery Committee\, along with Max Korten who chairs the committee.&nbsp\; Dr. Willis\, Marin County Health Department and other county officials.&nbsp\; We will also have Sausalito City Staff\, and others with updates on where we go from here.<br />\n<br />\nAs things are changing daily as needed we will make adjustments in the other speakers.
LOCATION:Sausalito Chamber of Commerce is inviting you to a Town Hall Meeting July 10\, 2020 8:30 AM Join Zoom Meeting Meeting ID: 830 5547 6882 Password: 233629 One tap mobile +16699006833\,\,83055476882#\,\,\,\,0#\,\,233629# US (San Jose) Dial by your location +1 669 900 6833 US (San Jose)
UID:e.1780.2413
SEQUENCE:3
DTSTAMP:20260423T012032Z
URL:http://business.sausalito.org/events/details/town-hall-meeting-dr-willis-county-city-staff-covid-update-2413
END:VEVENT

END:VCALENDAR
