BEGIN:VCALENDAR
VERSION:2.0
PRODID:-//ChamberMaster//Event Calendar 2.0//EN
METHOD:PUBLISH
X-PUBLISHED-TTL:P3D
REFRESH-INTERVAL:P3D
CALSCALE:GREGORIAN
BEGIN:VEVENT
DTSTART:20200909T153000Z
DTEND:20200909T163000Z
X-MICROSOFT-CDO-ALLDAYEVENT:FALSE
SUMMARY:Town Hall Meeting
DESCRIPTION:Town Hall Meeting via Zoom\n\nGuest Speakers:  PG&E Mark Van Gorder\, talking about Public Safety Power Shutoffs\, City Manager Adam Poltizer\, Marin Recovers Updates\, State Opening Updates.
X-ALT-DESC;FMTTYPE=text/html:Town Hall Meeting via Zoom<br />\nGuest Speakers:&nbsp\; PG&amp\;E Mark Van Gorder\, talking about Public Safety Power Shutoffs\, City Manager Adam Poltizer\, Marin Recovers Updates\, State Opening Updates.
LOCATION:Time: Sep 9\, 2020 08:30 AM Pacific Time (US and Canada) Join Zoom Meeting https://us02web.zoom.us/j/81526047368?pwd=RUJuQnFua3ltYjhCU3FPd3NQb05Cdz09 Meeting ID: 815 2604 7368 Passcode: 305981 One tap mobile +16699006833\,\,81526047368#\,\,\,\,\,\,0#\,\,305981# US (San Jose) Dial by your location +1 669 900 6833 US (San Jose)
UID:e.1780.2492
SEQUENCE:3
DTSTAMP:20260422T223857Z
URL:http://business.sausalito.org/events/details/town-hall-meeting-2492
END:VEVENT

END:VCALENDAR
