BEGIN:VCALENDAR
VERSION:2.0
PRODID:-//ChamberMaster//Event Calendar 2.0//EN
METHOD:PUBLISH
X-PUBLISHED-TTL:P3D
REFRESH-INTERVAL:P3D
CALSCALE:GREGORIAN
BEGIN:VEVENT
DTSTART:20200812T153000Z
DTEND:20200812T163000Z
X-MICROSOFT-CDO-ALLDAYEVENT:FALSE
SUMMARY:Town Hall Meeting
DESCRIPTION:Town Hall Meeting - Updates from the Chamber\, City of Sausalito and County of Marin.  COVID updates\, openings\, etc.\n\nSpeakers:  City Manager - Adam Politzer\;  Sausalito Chamber CEO\, Juli Vieira
X-ALT-DESC;FMTTYPE=text/html:Town Hall Meeting - Updates from the Chamber\, City of Sausalito and County of Marin.&nbsp\; COVID updates\, openings\, etc.<br />\nSpeakers:&nbsp\; City Manager - Adam Politzer\;&nbsp\; Sausalito Chamber CEO\, Juli Vieira
LOCATION:Topic: Town Hall Meeting - Speakers include Sausalito City Manager Time: Aug 12\, 2020 08:30 AM Pacific Time (US and Canada) Join Zoom Meeting https://us02web.zoom.us/j/81121806477?pwd=YnU3WFFZRklGNFZlVk05NUFjS2VhZz09 Meeting ID: 811 2180 6477 Passcode: 167536 Dial by your location +1 669 900 6833 US (San Jose)
UID:e.1780.2491
SEQUENCE:3
DTSTAMP:20260423T011932Z
URL:http://business.sausalito.org/events/details/town-hall-meeting-2491
END:VEVENT

END:VCALENDAR
