BEGIN:VCALENDAR
VERSION:2.0
PRODID:-//ChamberMaster//Event Calendar 2.0//EN
METHOD:PUBLISH
X-PUBLISHED-TTL:P3D
REFRESH-INTERVAL:P3D
CALSCALE:GREGORIAN
BEGIN:VEVENT
DTSTART:20190416T020000Z
DTEND:20190416T050000Z
X-MICROSOFT-CDO-ALLDAYEVENT:FALSE
SUMMARY:The Camp Fire Documentary
DESCRIPTION:Benefit Screening for the Rotary Club of Paradise\n\n\n\nA powerful and moving first person account from individuals and First\n\nResponders that battled against the inferno that struck Concow\, Paradise\, Magalia\, and Chico in Butte\n\nCounty California on November the 8th\, 2018. This documentary was produced by local film maker\,\n\nGolden Eagle Films\, and is powerful\, sensitive\, and heart-felt.
X-ALT-DESC;FMTTYPE=text/html:<div class="_5gmx" data-testid="event-permalink-event-name" id="seo_h1_tag"><span style="font-family:arial\;">Benefit Screening for the Rotary Club of Paradise</span><br />\n<br />\nA powerful and moving first person account from individuals and First<br />\nResponders that battled against the inferno that struck Concow\, Paradise\, Magalia\, and Chico in Butte<br />\nCounty California on November the 8th\, 2018. This documentary was produced by local film maker\,<br />\nGolden Eagle Films\, and is powerful\, sensitive\, and heart-felt.</div>\n
LOCATION:Christopher B. Smith Rafael Film Center 1118 4th Street San Rafael
UID:e.1780.1950
SEQUENCE:3
DTSTAMP:20260423T234800Z
URL:http://business.sausalito.org/events/details/the-camp-fire-documentary-1950
END:VEVENT

END:VCALENDAR
