BEGIN:VCALENDAR
VERSION:2.0
PRODID:-//ChamberMaster//Event Calendar 2.0//EN
METHOD:PUBLISH
X-PUBLISHED-TTL:P3D
REFRESH-INTERVAL:P3D
CALSCALE:GREGORIAN
BEGIN:VEVENT
DTSTART:20190803T170000Z
DTEND:20190803T180000Z
X-MICROSOFT-CDO-ALLDAYEVENT:FALSE
SUMMARY:The Bay Model Wants You!!!
DESCRIPTION:Become part of Sausalito's very own attraction known around the world! We have a variety of volunteer positions that are suited for people just like you! Greet visitors\, lead tours\, work with school groups\, and more! Come and be a part of one of the largest working hydraulic models in existence. Join us for a brief orientation! Contact Park Ranger Joanne Jarvis 415.289.3027 or email joanne.jarvis@usace.army.mil
X-ALT-DESC;FMTTYPE=text/html:Become part of Sausalito&rsquo\;s very own attraction known around the world! We have a variety of volunteer positions that are suited for people just like you! Greet visitors\, lead tours\, work with school groups\, and more! Come and be a part of one of the largest working hydraulic models in existence. Join us for a brief orientation! Contact Park Ranger Joanne Jarvis 415.289.3027 or email joanne.jarvis@usace.army.mil
LOCATION:Bay Model Visitor Center 2100 Bridgeway Sausalito\, CA 94965 415-332-3871 https://www.spn.usace.army.mil/Missions/Recreation/Bay-Model-Visitor-Center/
UID:e.1780.2008
SEQUENCE:3
DTSTAMP:20260423T171212Z
URL:http://business.sausalito.org/events/details/the-bay-model-wants-you-08-03-2019-2008
END:VEVENT

END:VCALENDAR
