BEGIN:VCALENDAR
VERSION:2.0
PRODID:-//ChamberMaster//Event Calendar 2.0//EN
METHOD:PUBLISH
X-PUBLISHED-TTL:P3D
REFRESH-INTERVAL:P3D
CALSCALE:GREGORIAN
BEGIN:VEVENT
DTSTART:20200307T180000Z
DTEND:20200307T190000Z
X-MICROSOFT-CDO-ALLDAYEVENT:FALSE
SUMMARY:The Bay Model Wants You!!!
DESCRIPTION:Become part of Sausalito's very own attraction known around the world! We have a variety of volunteer positions that are suited for people just like you! Greet visitors\, lead tours\, work with school groups\, and more! Come and be a part of one of the largest working hydraulic models in existence. Join us for a brief orientation! For more information\, contact Park Ranger Joanne Jarvis at 415.289.3027 or by e-mail at joanne.jarvis@usace.army.mil.
X-ALT-DESC;FMTTYPE=text/html:Become part of Sausalito&rsquo\;s very own attraction known around the world! We have a variety of volunteer positions that are suited for people just like you! Greet visitors\, lead tours\, work with school groups\, and more! Come and be a part of one of the largest working hydraulic models in existence. Join us for a brief orientation! For more information\, contact Park Ranger Joanne Jarvis at 415.289.3027 or by e-mail at joanne.jarvis@usace.army.mil.
LOCATION:Bay Model Visitor Center 2100 Bridgeway Sausalito\, CA 94965 415-289-3007 www.spn.usace.army.mil/Missions/Recreation/Bay-Model-Visitor-Center/
UID:e.1780.2374
SEQUENCE:3
DTSTAMP:20260423T065314Z
URL:http://business.sausalito.org/events/details/the-bay-model-wants-you-03-07-2020-2374
END:VEVENT

END:VCALENDAR
