BEGIN:VCALENDAR
VERSION:2.0
PRODID:-//ChamberMaster//Event Calendar 2.0//EN
METHOD:PUBLISH
X-PUBLISHED-TTL:P3D
REFRESH-INTERVAL:P3D
CALSCALE:GREGORIAN
BEGIN:VEVENT
DTSTART:20200222T213000Z
DTEND:20200222T223000Z
X-MICROSOFT-CDO-ALLDAYEVENT:FALSE
SUMMARY:The Bay Model: An USACE Engineer Tribute
DESCRIPTION:In commemoration of Engineer Week\, this program is dedicated to the USACE San Francisco District's construction of the Bay Model. This former one-of-kind scientific\, hydrodynamic\, engineering testing facility has accurately produced water related predictions for almost a half century. The first 30 years it was all hand operated. How did they do it? How was the information used? Although retired now\, this story is part of the districts amazing legacy. Join Ranger Linda for more.
X-ALT-DESC;FMTTYPE=text/html:In commemoration of Engineer Week\, this program is dedicated to the USACE San Francisco District&#39\;s construction of the Bay Model. This former one-of-kind scientific\, hydrodynamic\, engineering testing facility has accurately produced water related predictions for almost a half century. The first 30 years it was all hand operated. How did they do it? How was the information used? Although retired now\, this story is part of the districts amazing legacy. Join Ranger Linda for more.
LOCATION:Bay Model Visitor Center 2100 Bridgeway Sausalito\, CA 94965 Phone: (415) 289-3007 http://www.spn.usace.army.mil/Missions/Recreation/Bay-Model-Visitor-Center/
UID:e.1780.2352
SEQUENCE:3
DTSTAMP:20260423T084341Z
URL:http://business.sausalito.org/events/details/the-bay-model-an-usace-engineer-tribute-2352
END:VEVENT

END:VCALENDAR
