BEGIN:VCALENDAR
VERSION:2.0
PRODID:-//ChamberMaster//Event Calendar 2.0//EN
METHOD:PUBLISH
X-PUBLISHED-TTL:P3D
REFRESH-INTERVAL:P3D
CALSCALE:GREGORIAN
BEGIN:VEVENT
DTSTART:20211125T190000Z
DTEND:20211125T210000Z
X-MICROSOFT-CDO-ALLDAYEVENT:FALSE
SUMMARY:Thanksgiving Grand Buffet
DESCRIPTION:Tucked within over 75\,000 acres of breathtaking national parkland in the famed Golden Gate National Recreation Area\, Cavallo Point is truly the perfect destination to spend this upcoming Thanksgiving. Celebrate with a grand buffet feast in the lodge's elegant Callippe Ballroom\, complete with everyone's favorite traditional Thanksgiving dishes. Two afternoon seatings are available. Tickets include gratuity\, complimentary valet or self-parking\, and one glass of champagne.
X-ALT-DESC;FMTTYPE=text/html:Tucked within over 75\,000 acres of breathtaking national parkland in the famed Golden Gate National Recreation Area\, Cavallo Point is truly the perfect destination to spend this upcoming Thanksgiving.&nbsp\;Celebrate with a grand buffet feast&nbsp\;in the lodge&rsquo\;s elegant Callippe Ballroom\, complete with everyone&rsquo\;s favorite traditional Thanksgiving dishes. Two afternoon seatings are available. Tickets include&nbsp\;gratuity\, complimentary valet or self-parking\, and one glass of champagne.
LOCATION:Cavallo Point 601 Murray Circle Sausalito\, California 94965
UID:e.1780.3077
SEQUENCE:3
DTSTAMP:20260422T004350Z
URL:http://business.sausalito.org/events/details/thanksgiving-grand-buffet-3077
END:VEVENT

END:VCALENDAR
