BEGIN:VCALENDAR
VERSION:2.0
PRODID:-//ChamberMaster//Event Calendar 2.0//EN
METHOD:PUBLISH
X-PUBLISHED-TTL:P3D
REFRESH-INTERVAL:P3D
CALSCALE:GREGORIAN
BEGIN:VEVENT
DTSTART:20191128T200000Z
DTEND:20191129T040000Z
X-MICROSOFT-CDO-ALLDAYEVENT:FALSE
SUMMARY:Thanksgiving Family-Style Dinner at Cavallo Point
DESCRIPTION:Join us with the entire family for our special family-style Thanksgiving celebration. For groups of four or more\, Murray Circle offers three delectable family-style dinners from 12:00pm - 8:00pm\, featuring turkey\, roast beef or crispy Thai snapper. Each selection is accompanied by a salad\, side dishes and dessert. Give thanks with us at Cavallo Point.\n\n\n\nCancellations may be made up to 72 hours prior to the event. Cancellations within 72 hours will incur a charge for the full cost of the event.
X-ALT-DESC;FMTTYPE=text/html:<span style="background-color:rgb(252\, 251\, 247)\; color:rgb(85\, 85\, 85)\; font-family:avenir lt w01_55 roman1475520\,sans-serif\; font-size:16px">Join us with the entire family for our special family-style Thanksgiving celebration. For groups of four or more\, Murray Circle offers three delectable family-style dinners from 12:00pm - 8:00pm\, featuring turkey\, roast beef or crispy Thai snapper. Each selection is accompanied by a salad\, side dishes and dessert. Give thanks with us at Cavallo Point.</span><br />\n<br />\n<em>Cancellations may be made up to 72 hours prior to the event. Cancellations within 72 hours will incur a charge for the full cost of the event.</em>
LOCATION:Murray Circle Restaurant at Cavallo Point Lodge at the Golden Gate 602 Murray Circle Sausalito\, CA 94965
UID:e.1780.2200
SEQUENCE:3
DTSTAMP:20260423T124336Z
URL:http://business.sausalito.org/events/details/thanksgiving-family-style-dinner-2200
END:VEVENT

END:VCALENDAR
