BEGIN:VCALENDAR
VERSION:2.0
PRODID:-//ChamberMaster//Event Calendar 2.0//EN
METHOD:PUBLISH
X-PUBLISHED-TTL:P3D
REFRESH-INTERVAL:P3D
CALSCALE:GREGORIAN
BEGIN:VEVENT
DTSTART:20191128T200000Z
DTEND:20191129T003000Z
X-MICROSOFT-CDO-ALLDAYEVENT:FALSE
SUMMARY:Thanksgiving Buffet at Cavallo Point
DESCRIPTION:Join us for a delectable Thanksgiving dinner buffet with all the fixings. With two afternoon seatings\, guests will enjoy a plentiful buffet with traditional dishes\, including turkey and roast beef carving stations\, harvest salads\, desserts and more. Plus bottomless Prosecco for adults to make the holiday just a little more festive. Give thanks at Cavallo Point!\n\nWe are offering two seatings at 12:00pm and 2:30pm. Tickets include gratuity\, complimentary valet or self-parking and bottomless Prosecco for adults.
X-ALT-DESC;FMTTYPE=text/html:<p>Join us for a delectable Thanksgiving dinner buffet with all the fixings. With two afternoon seatings\, guests will enjoy a plentiful buffet with traditional dishes\, including turkey and roast beef carving stations\, harvest salads\, desserts and more. Plus bottomless Prosecco for adults to make the holiday just a little more festive. Give thanks at Cavallo Point!</p>\n\n<p><em>We are offering two seatings at 12:00pm and 2:30pm. Tickets include gratuity\, complimentary valet or self-parking and bottomless Prosecco for adults.</em></p>\n
LOCATION:Cavallo Point Lodge at the Golden Gate Tidewater Room 601 Murray Circle Sausalito\, CA 94965
UID:e.1780.2201
SEQUENCE:3
DTSTAMP:20260423T124236Z
URL:http://business.sausalito.org/events/details/thanksgiving-buffet-at-cavallo-point-2201
END:VEVENT

END:VCALENDAR
