BEGIN:VCALENDAR
VERSION:2.0
PRODID:-//ChamberMaster//Event Calendar 2.0//EN
METHOD:PUBLISH
X-PUBLISHED-TTL:P3D
REFRESH-INTERVAL:P3D
CALSCALE:GREGORIAN
BEGIN:VEVENT
DTSTART:20180603T213000Z
DTEND:20180604T000000Z
X-MICROSOFT-CDO-ALLDAYEVENT:FALSE
SUMMARY:SWCSRF Scholarship Awards
DESCRIPTION:Free and open to the public
X-ALT-DESC;FMTTYPE=text/html:Free and open to the public&nbsp\;&nbsp\;&nbsp\;&nbsp\;
LOCATION:Sausalito Woman's Club 120 Central Avenue Sausalito\, CA 94965
UID:e.1780.1617
SEQUENCE:3
DTSTAMP:20260424T180258Z
URL:http://business.sausalito.org/events/details/swcsrf-scholarship-awards-1617
END:VEVENT

END:VCALENDAR
