BEGIN:VCALENDAR
VERSION:2.0
PRODID:-//ChamberMaster//Event Calendar 2.0//EN
METHOD:PUBLISH
X-PUBLISHED-TTL:P3D
REFRESH-INTERVAL:P3D
CALSCALE:GREGORIAN
BEGIN:VEVENT
DTSTART:20201007T020000Z
DTEND:20201007T033000Z
X-MICROSOFT-CDO-ALLDAYEVENT:FALSE
SUMMARY:SWC School Board Candidates Night
DESCRIPTION:Meet the Sausalito Marin City School Board Candidates:\n\n* Lisa Bennett\n\n* Jennifer Conway\n\n* Alena Maunder\n\n* Yasmine McGrane\n\nEvent moderated by the League of Women Voters.\n\nThe forum will be conducted via Zoom and live-streamed on the League's YouTube channel. Visit the Candidate Forum page at www.marinlwv.org for the YouTube livestream link.\n\nSome candidate statements available via the League or Women Voters at voters edge.org.\n\nSubmit questions to SMCSD@marinlwv.org before 5 p.m. Monday\, October 5. Instructions for submitting questions during the forum will be available that evening.
X-ALT-DESC;FMTTYPE=text/html:<div class="kvgmc6g5 cxmmr5t8 oygrvhab hcukyx3x c1et5uql">Meet the Sausalito Marin City School Board Candidates:<br />\n* Lisa Bennett<br />\n* Jennifer Conway<br />\n* Alena Maunder<br />\n* Yasmine McGrane</div>\n\n<div class="o9v6fnle cxmmr5t8 oygrvhab hcukyx3x c1et5uql">Event moderated by the League of Women Voters.</div>\n\n<div class="o9v6fnle cxmmr5t8 oygrvhab hcukyx3x c1et5uql">The forum will be conducted via Zoom and live-streamed on the League&#39\;s YouTube channel. Visit the Candidate Forum page at <a class="oajrlxb2 g5ia77u1 qu0x051f esr5mh6w e9989ue4 r7d6kgcz rq0escxv nhd2j8a9 nc684nl6 p7hjln8o kvgmc6g5 cxmmr5t8 oygrvhab hcukyx3x jb3vyjys rz4wbd8a qt6c0cv9 a8nywdso i1ao9s8h esuyzwwr f1sip0of lzcic4wl py34i1dx gpro0wi8" href="https://l.facebook.com/l.php?u=http%3A%2F%2Fwww.marinlwv.org%2F%3Ffbclid%3DIwAR1rVSHfzdAitXz4XV1vAY0gSIeUF9P3fEkMszuPa5CqWkPiQR3Iig7nsUY&amp\;h=AT14N1O84ERXRO3JIbcJ-jpwch_xjwoKenTijZ_UGyJlPKo4LdjtL2IOwrf9IkVUFlMvXAsztYoI5bs7eY8DhPyl1--pxfIKiBjNjpDPmlD8uuyFPOaFMmqO3UPK8Q5qHS33l6g" rel="nofollow noopener" role="link" tabindex="0" target="_blank">www.marinlwv.org</a> for the YouTube livestream link.</div>\n\n<div class="o9v6fnle cxmmr5t8 oygrvhab hcukyx3x c1et5uql">Some candidate statements available via the League or Women Voters at voters <a class="oajrlxb2 g5ia77u1 qu0x051f esr5mh6w e9989ue4 r7d6kgcz rq0escxv nhd2j8a9 nc684nl6 p7hjln8o kvgmc6g5 cxmmr5t8 oygrvhab hcukyx3x jb3vyjys rz4wbd8a qt6c0cv9 a8nywdso i1ao9s8h esuyzwwr f1sip0of lzcic4wl py34i1dx gpro0wi8" href="https://l.facebook.com/l.php?u=http%3A%2F%2Fedge.org%2F%3Ffbclid%3DIwAR0M5PiheliknJPYlA6PXmnmI3eTc-0Fy_eIGaTQ3RaArJsoLSe-OEgKLPE&amp\;h=AT3Uzw5vmZ7UdAkBHF-O_cXsfaMnMeCvEH73F8P4LqRhhbKKBcwfC0tJIOzq0VIeNChCvGLDhzKXFfOdx1d8AAbjWT9RFwkJmUZwYNu2CBCcRTc7azTYOBTR2lak1tqzd6HT608" rel="nofollow noopener" role="link" tabindex="0" target="_blank">edge.org.</a></div>\n\n<div class="o9v6fnle cxmmr5t8 oygrvhab hcukyx3x c1et5uql">Submit questions to SMCSD@marinlwv.org before 5 p.m. Monday\, October 5. Instructions for submitting questions during the forum will be available that evening.</div>\n
LOCATION:Questions? Alice Merrill\, alicem3@mindspring.com Debbie Ford-Scriba\, dfordscriba@gmail.com More info: www.sausalitowomansclub.org
UID:e.1780.2535
SEQUENCE:3
DTSTAMP:20260422T222742Z
URL:http://business.sausalito.org/events/details/swc-school-board-candidates-night-2535
END:VEVENT

END:VCALENDAR
