BEGIN:VCALENDAR
VERSION:2.0
PRODID:-//ChamberMaster//Event Calendar 2.0//EN
METHOD:PUBLISH
X-PUBLISHED-TTL:P3D
REFRESH-INTERVAL:P3D
CALSCALE:GREGORIAN
BEGIN:VEVENT
DTSTART:20201009T020000Z
DTEND:20201009T033000Z
X-MICROSOFT-CDO-ALLDAYEVENT:FALSE
SUMMARY:SWC Sausalito City Council Forum
DESCRIPTION:The Sausalito Woman's Club & the League of Women Voters invite you to Meet the Candidates for Sausalito City Council on Thursday\, October 8 at 7 p.m.:\n\n* Melissa Blaustein\n\n* Joan Cox\n\n* Janelle Kellman\n\n* Vicki Nichols\n\n* Aaron Singer\n\n* Ian Sobieski\n\n\n\nThe forum will be moderated and managed by the League of Women Voters of Marin via Zoom and live-streamed on the League's YouTube channel.\n\nVisit the Candidate Forum page at www.marinlwv.org for the YouTube livestream link.\n\n \n\nSubmit questions to SausalitoCC@marinlwv.org before 5 p.m. Wednesday\, October 7. Instructions for submitting questions during the forum will be available that evening. Some candidate statements available via the League of Women Voters at voters edge.com
X-ALT-DESC;FMTTYPE=text/html:<div class="kvgmc6g5 cxmmr5t8 oygrvhab hcukyx3x c1et5uql">The Sausalito Woman&rsquo\;s Club &amp\; the League of Women Voters invite you to Meet the Candidates for Sausalito City Council on Thursday\, October 8 at 7 p.m.:<br />\n* Melissa Blaustein<br />\n* Joan Cox<br />\n* Janelle Kellman<br />\n* Vicki Nichols<br />\n* Aaron Singer<br />\n* Ian Sobieski</div>\n\n<div class="o9v6fnle cxmmr5t8 oygrvhab hcukyx3x c1et5uql"><br />\nThe forum will be moderated and managed by the League of Women Voters of Marin via Zoom and live-streamed on the League&#39\;s YouTube channel.</div>\n\n<div class="o9v6fnle cxmmr5t8 oygrvhab hcukyx3x c1et5uql">Visit the Candidate Forum page at <a class="oajrlxb2 g5ia77u1 qu0x051f esr5mh6w e9989ue4 r7d6kgcz rq0escxv nhd2j8a9 nc684nl6 p7hjln8o kvgmc6g5 cxmmr5t8 oygrvhab hcukyx3x jb3vyjys rz4wbd8a qt6c0cv9 a8nywdso i1ao9s8h esuyzwwr f1sip0of lzcic4wl py34i1dx gpro0wi8" href="https://l.facebook.com/l.php?u=http%3A%2F%2Fwww.marinlwv.org%2F%3Ffbclid%3DIwAR0M5PiheliknJPYlA6PXmnmI3eTc-0Fy_eIGaTQ3RaArJsoLSe-OEgKLPE&amp\;h=AT3j2Ml9QyGwNhvtIrvKz8uY-uc6uytnofrYwMP-bkJvsQqnnW6tTw7k4qGe5j-AtcDwKW7L1TWq2QtCq1No2AWUNJBkRtD_cs5nON3LNOborwJH8MjTSli5NW70KNP0E20OBpU" rel="nofollow noopener" role="link" tabindex="0" target="_blank">www.marinlwv.org</a> for the YouTube livestream link.<br />\n&nbsp\;</div>\n\n<div class="o9v6fnle cxmmr5t8 oygrvhab hcukyx3x c1et5uql">Submit questions to SausalitoCC@marinlwv.org before 5 p.m. Wednesday\, October 7. Instructions for submitting questions during the forum will be available that evening. Some candidate statements available via the League of Women Voters at voters <a class="oajrlxb2 g5ia77u1 qu0x051f esr5mh6w e9989ue4 r7d6kgcz rq0escxv nhd2j8a9 nc684nl6 p7hjln8o kvgmc6g5 cxmmr5t8 oygrvhab hcukyx3x jb3vyjys rz4wbd8a qt6c0cv9 a8nywdso i1ao9s8h esuyzwwr f1sip0of lzcic4wl py34i1dx gpro0wi8" href="https://l.facebook.com/l.php?u=http%3A%2F%2Fedge.com%2F%3Ffbclid%3DIwAR3m67ATC439ZVgRh1kuQo92sOr7SkFOOe2pJYamd4xb7u-PJRLxTrnBPUo&amp\;h=AT2ejaycpFeT6sUYX9j6KgImT6DgJ8s7w-h1AxiR0wxefWNAX4c-PcjbjHQ01zK7WUBVKPglSuVakJg3tGujPDEuqPlg9Ni0o2EmiDw5C7lzz11iNOONMpVs0bsc_k-hUG6aDsU" rel="nofollow noopener" role="link" tabindex="0" target="_blank">edge.com</a></div>\n
LOCATION:Questions? Alice Merrill\, alicem3@mindspring.com Debbie Ford-Scriba\, dfordscriba@gmail.com More info: www.sausalitowomansclub.org
UID:e.1780.2536
SEQUENCE:3
DTSTAMP:20260422T222927Z
URL:http://business.sausalito.org/events/details/swc-sausalito-city-council-forum-2536
END:VEVENT

END:VCALENDAR
