BEGIN:VCALENDAR
VERSION:2.0
PRODID:-//ChamberMaster//Event Calendar 2.0//EN
METHOD:PUBLISH
X-PUBLISHED-TTL:P3D
REFRESH-INTERVAL:P3D
CALSCALE:GREGORIAN
BEGIN:VEVENT
DTSTART:20191208T230000Z
DTEND:20191209T010000Z
X-MICROSOFT-CDO-ALLDAYEVENT:FALSE
SUMMARY:SWC Holiday Open House
DESCRIPTION:Join the Sausalito Woman's Club for their Annual Holiday Open House for members\, friends and the Sausalito community. Santa will make an appearance and they will have a Toys for Tots and Teen collection point. Annual Giving Tree donations are appreciated. No charge. Shuttle available from City Hall.
X-ALT-DESC;FMTTYPE=text/html:Join the Sausalito Woman&#39\;s Club for their Annual Holiday Open House for members\, friends and the Sausalito community. Santa will make an appearance and they will have a Toys for Tots and Teen collection point. Annual Giving Tree donations are appreciated. No charge. Shuttle available from City Hall.
LOCATION:120 Central Avenue Sausalito\, CA 94965
UID:e.1780.1534
SEQUENCE:3
DTSTAMP:20260423T110925Z
URL:http://business.sausalito.org/events/details/swc-holiday-open-house-12-01-2019-1534
END:VEVENT

END:VCALENDAR
