BEGIN:VCALENDAR
VERSION:2.0
PRODID:-//ChamberMaster//Event Calendar 2.0//EN
METHOD:PUBLISH
X-PUBLISHED-TTL:P3D
REFRESH-INTERVAL:P3D
CALSCALE:GREGORIAN
BEGIN:VEVENT
DTSTART:20190418T013000Z
DTEND:20190418T040000Z
X-MICROSOFT-CDO-ALLDAYEVENT:FALSE
SUMMARY:SWC—An Evening of Poetry
DESCRIPTION:Join us for a special community gathering celebrating some of the best poetry of our times. Explore where the particular and universal\, the actual and possible intersect. Hear readings from entrepreneurs\, teachers\, clergy\, moms\, and dads\, along with special guest appearances by award-winning SLAM poets from local high schools and Youth Speaks.org brave new voices bringing the noise from the margins to the core.
X-ALT-DESC;FMTTYPE=text/html:<span style="caret-color: rgb(0\, 0\, 0)\; color: rgb(0\, 0\, 0)\; font-family: UICTFontTextStyleTallBody\; font-size: 15px\;">Join us for a special community gathering celebrating some of the best poetry of our times. Explore where the particular and universal\, the actual and possible intersect. Hear readings from entrepreneurs\, teachers\, clergy\, moms\, and dads\, along with special guest appearances by award-winning SLAM poets from local high schools and Youth&nbsp\;</span><a href="http://speaks.org/" style="font-family: UICTFontTextStyleTallBody\; font-size: 15px\;">Speaks.org</a><span style="caret-color: rgb(0\, 0\, 0)\; color: rgb(0\, 0\, 0)\; font-family: UICTFontTextStyleTallBody\; font-size: 15px\;">&mdash\;brave new voices bringing the noise from the margins to the core.</span>
LOCATION:Sausalito Woman's Club 120 Central Ave. Sausaito\, CA 94965
UID:e.1780.1951
SEQUENCE:3
DTSTAMP:20260423T235154Z
URL:http://business.sausalito.org/events/details/swc-an-evening-of-poetry-1951
END:VEVENT

END:VCALENDAR
