BEGIN:VCALENDAR
VERSION:2.0
PRODID:-//ChamberMaster//Event Calendar 2.0//EN
METHOD:PUBLISH
X-PUBLISHED-TTL:P3D
REFRESH-INTERVAL:P3D
CALSCALE:GREGORIAN
BEGIN:VEVENT
DTSTART:20200511T200000Z
DTEND:20200511T210000Z
X-MICROSOFT-CDO-ALLDAYEVENT:FALSE
SUMMARY:Supervisor Kate Sears Zoom Town Hall
DESCRIPTION:Zoom meeting with Supervisor Kate Sears\, Supervisor Elect Stephanie Moulton-Peters and Max Korten - Marin Recovers Initiative.\n\n\n\nTopic: Supervisor Kate Sears & Supervisor Elect Stephanie Moulton-Peters \n\nTime: May 11\, 2020 01:00 PM Pacific Time (US and Canada)\n\n\n\nJoin Zoom Meeting\n\nhttps://us02web.zoom.us/j/88221021814?pwd=RGRwanBxZERGVDFBQ3Z6Z1ZURmtqUT09\n\n\n\nMeeting ID: 882 2102 1814\n\nPassword: 309607\n\nOne tap mobile\n\n+16699006833\,\,88221021814#\,\,1#\,309607# US (San Jose)\n\n+12532158782\,\,88221021814#\,\,1#\,309607# US (Tacoma)\n\n\n\nDial by your location\n\n        +1 669 900 6833 US (San Jose)\n\n        +1 253 215 8782 US (Tacoma)\n\n        +1 346 248 7799 US (Houston)
X-ALT-DESC;FMTTYPE=text/html:Zoom meeting with Supervisor Kate Sears\, Supervisor Elect Stephanie Moulton-Peters and Max Korten - Marin Recovers Initiative.<br />\n<br />\nTopic: Supervisor Kate Sears &amp\; Supervisor Elect Stephanie Moulton-Peters&nbsp\;<br />\nTime: May 11\, 2020 01:00 PM Pacific Time (US and Canada)<br />\n<br />\nJoin Zoom Meeting<br />\nhttps://us02web.zoom.us/j/88221021814?pwd=RGRwanBxZERGVDFBQ3Z6Z1ZURmtqUT09<br />\n<br />\nMeeting ID: 882 2102 1814<br />\nPassword: 309607<br />\nOne tap mobile<br />\n+16699006833\,\,88221021814#\,\,1#\,309607# US (San Jose)<br />\n+12532158782\,\,88221021814#\,\,1#\,309607# US (Tacoma)<br />\n<br />\nDial by your location<br />\n&nbsp\; &nbsp\; &nbsp\; &nbsp\; +1 669 900 6833 US (San Jose)<br />\n&nbsp\; &nbsp\; &nbsp\; &nbsp\; +1 253 215 8782 US (Tacoma)<br />\n&nbsp\; &nbsp\; &nbsp\; &nbsp\; +1 346 248 7799 US (Houston)<br />\n&nbsp\; &nbsp\; &nbsp\; &nbsp\;<br />\n&nbsp\;
LOCATION:Zoom Meeting
UID:e.1780.2399
SEQUENCE:3
DTSTAMP:20260423T042548Z
URL:http://business.sausalito.org/events/details/supervisor-kate-sears-zoom-town-hall-2399
END:VEVENT

END:VCALENDAR
