BEGIN:VCALENDAR
VERSION:2.0
PRODID:-//ChamberMaster//Event Calendar 2.0//EN
METHOD:PUBLISH
X-PUBLISHED-TTL:P3D
REFRESH-INTERVAL:P3D
CALSCALE:GREGORIAN
BEGIN:VEVENT
DTSTART:20220301T170000Z
DTEND:20220301T183000Z
X-MICROSOFT-CDO-ALLDAYEVENT:FALSE
SUMMARY:State of the City - Mayor\, Vice Mayor & City Manager
DESCRIPTION:State of the City is presented by the Sausalito Chamber of Commerce.  Mayor Kellman\, Vice Mayor Blaustein and City Manager Zapata will give an update on the City.  Coffee and pastries will be provided.\n\nAll COVID protocols in place will be observed. Please be prepared to show your vaccine card.  Open to Sausalito Chamber Members Only
X-ALT-DESC;FMTTYPE=text/html:State of the City is presented by the Sausalito Chamber of Commerce.&nbsp\; Mayor Kellman\, Vice Mayor Blaustein and City Manager Zapata will give an update on the City.&nbsp\; Coffee and pastries will be provided.<br />\nAll COVID protocols in place will be observed. Please be prepared to show your vaccine card.&nbsp\; Open to Sausalito Chamber Members Only
LOCATION:The Spinnaker
UID:e.1780.3479
SEQUENCE:3
DTSTAMP:20260421T171137Z
URL:http://business.sausalito.org/events/details/state-of-the-city-mayor-vice-mayor-city-manager-3479
END:VEVENT

END:VCALENDAR
