BEGIN:VCALENDAR
VERSION:2.0
PRODID:-//ChamberMaster//Event Calendar 2.0//EN
METHOD:PUBLISH
X-PUBLISHED-TTL:P3D
REFRESH-INTERVAL:P3D
CALSCALE:GREGORIAN
BEGIN:VEVENT
DTSTART:20200215T160000Z
DTEND:20200216T010000Z
X-MICROSOFT-CDO-ALLDAYEVENT:FALSE
SUMMARY:St. Mary Star of the Sea's Annual Attic Sale
DESCRIPTION:Attic Sale - rugs\, jewelry\, toys\, art\, shoes and more will be on sale for this event.
X-ALT-DESC;FMTTYPE=text/html:Attic Sale - rugs\, jewelry\, toys\, art\, shoes and more will be on sale for this event.
LOCATION:St. Mary's Catholic Church - 180 Harrison St
UID:e.1780.2366
SEQUENCE:3
DTSTAMP:20260423T082602Z
URL:http://business.sausalito.org/events/details/st-mary-star-of-the-sea-s-annual-attic-sale-2366
END:VEVENT

END:VCALENDAR
