BEGIN:VCALENDAR
VERSION:2.0
PRODID:-//ChamberMaster//Event Calendar 2.0//EN
METHOD:PUBLISH
X-PUBLISHED-TTL:P3D
REFRESH-INTERVAL:P3D
CALSCALE:GREGORIAN
BEGIN:VEVENT
DTSTART;VALUE=DATE:20201022
DTEND;VALUE=DATE:20201023
TRANSP:TRANSPARENT
X-MICROSOFT-CDO-ALLDAYEVENT:TRUE
SUMMARY:Spook The Town - Sausalito
DESCRIPTION:In order to bring some Halloween Spirit to Sausalito the Chamber of Commerce will be decorating the downtown area and Caledonia Street area with Spooky Eyes.  So look in the trees\, bushes and in store windows to see how many sets of eyes you can find.  Take a photo with them and post to our #lovesausalito or #sausalitohalloween
X-ALT-DESC;FMTTYPE=text/html:In order to bring some Halloween Spirit to Sausalito the Chamber of Commerce will be decorating the downtown area and Caledonia Street area with Spooky Eyes.&nbsp\; So look in the trees\, bushes and in store windows to see how many sets of eyes you can find.&nbsp\; Take a photo with them and post to our #lovesausalito or #sausalitohalloween
LOCATION:
UID:e.1780.2797
SEQUENCE:3
DTSTAMP:20260422T222144Z
URL:http://business.sausalito.org/events/details/spook-the-town-sausalito-2797
END:VEVENT

END:VCALENDAR
