BEGIN:VCALENDAR
VERSION:2.0
PRODID:-//ChamberMaster//Event Calendar 2.0//EN
METHOD:PUBLISH
X-PUBLISHED-TTL:P3D
REFRESH-INTERVAL:P3D
CALSCALE:GREGORIAN
BEGIN:VEVENT
DTSTART;VALUE=DATE:20210924
DTEND;VALUE=DATE:20210925
TRANSP:TRANSPARENT
X-MICROSOFT-CDO-ALLDAYEVENT:TRUE
SUMMARY:Spirit of Marin Awards
DESCRIPTION:Bank of Marin honors several Marin Business and Community members selected by the Marin Chambers of Commerce.  Sausalito will be honoring The Ancona Family and Gil Purcell & Roxanne Sheridan at this event.
X-ALT-DESC;FMTTYPE=text/html:Bank of Marin honors several Marin Business and Community members selected by the Marin Chambers of Commerce.&nbsp\; Sausalito will be honoring The Ancona Family and Gil Purcell &amp\; Roxanne Sheridan at this event.
LOCATION:If you would like to attend please register: https://www.spiritofmarin.com/
UID:e.1780.2816
SEQUENCE:3
DTSTAMP:20260422T021534Z
URL:http://business.sausalito.org/events/details/spirit-of-marin-awards-2816
END:VEVENT

END:VCALENDAR
