BEGIN:VCALENDAR
VERSION:2.0
PRODID:-//ChamberMaster//Event Calendar 2.0//EN
METHOD:PUBLISH
X-PUBLISHED-TTL:P3D
REFRESH-INTERVAL:P3D
CALSCALE:GREGORIAN
BEGIN:VEVENT
DTSTART:20180921T183000Z
DTEND:20180921T203000Z
X-MICROSOFT-CDO-ALLDAYEVENT:FALSE
SUMMARY:Spirit of Marin
DESCRIPTION:Please join us for an inspiring awards luncheon as over 500 local business professionals gather to recognize the achievements and volunteer spirit of local businesses and business citizens as chosen by the Marin County Chambers of Commerce.
X-ALT-DESC;FMTTYPE=text/html:<span style="font-size: 16px\;"><span style="font-family: trebuchet ms\,helvetica\,sans-serif\;">Please join us for an inspiring awards luncheon as over 500 local business professionals gather to recognize the achievements and volunteer spirit of local businesses and business&nbsp\;citizens as chosen by the Marin County Chambers of Commerce.</span></span>
LOCATION:St. Vincent's School for Boys San Rafael\, CA
UID:e.1780.1828
SEQUENCE:3
DTSTAMP:20260424T150001Z
URL:http://business.sausalito.org/events/details/spirit-of-marin-1828
END:VEVENT

END:VCALENDAR
