BEGIN:VCALENDAR
VERSION:2.0
PRODID:-//ChamberMaster//Event Calendar 2.0//EN
METHOD:PUBLISH
X-PUBLISHED-TTL:P3D
REFRESH-INTERVAL:P3D
CALSCALE:GREGORIAN
BEGIN:VEVENT
DTSTART:20200125T210000Z
DTEND:20200126T010000Z
X-MICROSOFT-CDO-ALLDAYEVENT:FALSE
SUMMARY:Souper Bowl
DESCRIPTION:The big game is coming to Sausalito and we are NOT talking football. Sausalito's 5th annual Souper Bowl is pitting Downtown and Newtown restaurants against each other to find out who has the best soup in Sausalito.
X-ALT-DESC;FMTTYPE=text/html:<span>The big game is coming to Sausalito and we are NOT talking football. Sausalito&rsquo\;s 5th annual Souper Bowl is pitting Downtown and Newtown restaurants against each other to find out who has the best soup in Sausalito.</span>
LOCATION:Saturday\, January 25
UID:e.1780.2196
SEQUENCE:3
DTSTAMP:20260423T094835Z
URL:http://business.sausalito.org/events/details/souper-bowl-2196
END:VEVENT

END:VCALENDAR
