BEGIN:VCALENDAR
VERSION:2.0
PRODID:-//ChamberMaster//Event Calendar 2.0//EN
METHOD:PUBLISH
X-PUBLISHED-TTL:P3D
REFRESH-INTERVAL:P3D
CALSCALE:GREGORIAN
BEGIN:VEVENT
DTSTART:20190504T170000Z
DTEND:20190504T230000Z
X-MICROSOFT-CDO-ALLDAYEVENT:FALSE
SUMMARY:Sonoma-Marin Eco-Friendly Garden Tour
DESCRIPTION:Stop by and enjoy the beauty of the new native plant pollinator garden in front of the Bay Model. The garden\, featuring plants native to Marin\, was designed and installed by volunteers from the California Native Plant Society's Marin chapter. Garden volunteers will be on hand all day\, assisted by staff from local bee\, butterfly\, and birding groups\, ready to inspire and explain how to create a pollinator-friendly spot in your own garden. Register at www.savingwaterpartnership.org.
X-ALT-DESC;FMTTYPE=text/html:Stop by and enjoy the beauty of the new native plant pollinator garden in front of the Bay Model. The garden\, featuring plants native to Marin\, was designed and installed by volunteers from the California Native Plant Society&rsquo\;s Marin chapter. Garden volunteers will be on hand all day\, assisted by staff from local bee\, butterfly\, and birding groups\, ready to inspire and explain how to create a pollinator-friendly spot in your own garden. Register at www.savingwaterpartnership.org.
LOCATION:Bay Model Visitor Center 2100 Bridgeway Sausalito\, CA 94965 415-332-3871
UID:e.1780.1958
SEQUENCE:3
DTSTAMP:20260423T221317Z
URL:http://business.sausalito.org/events/details/sonoma-marin-eco-friendly-garden-tour-1958
END:VEVENT

END:VCALENDAR
