BEGIN:VCALENDAR
VERSION:2.0
PRODID:-//ChamberMaster//Event Calendar 2.0//EN
METHOD:PUBLISH
X-PUBLISHED-TTL:P3D
REFRESH-INTERVAL:P3D
CALSCALE:GREGORIAN
BEGIN:VEVENT
DTSTART:20211205T210000Z
DTEND:20211206T000000Z
X-MICROSOFT-CDO-ALLDAYEVENT:FALSE
SUMMARY:Sip & Savor Open House - Sausalito Chamber Visitor Center
DESCRIPTION:Begin the Holiday Season by enjoying a little wine and goodies while enjoying music\, artists\, and specials. Tickets will be sold to this event and proceeds will go to a local non-profit.  There will also be a "Giving Tree" to sponsor a Marin City Child by holiday shopping from their "Wish List".
X-ALT-DESC;FMTTYPE=text/html:Begin the Holiday Season by enjoying a little wine and goodies while enjoying music\, artists\, and specials. Tickets will be sold to this event and proceeds will go to a local non-profit.&nbsp\; There will also be a &quot\;Giving Tree&quot\; to sponsor a Marin City Child by holiday shopping from their &quot\;Wish List&quot\;.
LOCATION:22 El Portal\, Sausalito.
UID:e.1780.3042
SEQUENCE:3
DTSTAMP:20260421T225824Z
URL:http://business.sausalito.org/events/details/sip-savor-open-house-sausalito-chamber-visitor-center-3042
END:VEVENT

END:VCALENDAR
