BEGIN:VCALENDAR
VERSION:2.0
PRODID:-//ChamberMaster//Event Calendar 2.0//EN
METHOD:PUBLISH
X-PUBLISHED-TTL:P3D
REFRESH-INTERVAL:P3D
CALSCALE:GREGORIAN
BEGIN:VEVENT
DTSTART:20210505T170000Z
DTEND:20210505T171500Z
X-MICROSOFT-CDO-ALLDAYEVENT:FALSE
SUMMARY:SHOP LOCAL Drawing
DESCRIPTION:Shop Local Drawing - Winner revealed via Facebook Live.\n\nTo Enter: Write your name and email on the back of any receipt for any purchase in Sausalito (94965 Zip Code) at the Sausalito Chamber of Commerce & Visitor Center for a drawing of a $50 Gift Certificate to be spent at the Visitor Center.
X-ALT-DESC;FMTTYPE=text/html:Shop Local Drawing - Winner revealed via Facebook Live.<br />\n<strong>To Enter</strong>:&nbsp\;Write your name and email on the back of any receipt for any purchase in Sausalito (94965 Zip Code) at the Sausalito Chamber of Commerce &amp\; Visitor Center for a drawing of a $50 Gift Certificate to be spent at the Visitor Center.
LOCATION:22 El Portal\, Sausalito Sausalito Chamber of Commerce & Visitor Center
UID:e.1780.2815
SEQUENCE:3
DTSTAMP:20260422T091452Z
URL:http://business.sausalito.org/events/details/shop-local-drawing-2815
END:VEVENT

END:VCALENDAR
