BEGIN:VCALENDAR
VERSION:2.0
PRODID:-//ChamberMaster//Event Calendar 2.0//EN
METHOD:PUBLISH
X-PUBLISHED-TTL:P3D
REFRESH-INTERVAL:P3D
CALSCALE:GREGORIAN
BEGIN:VEVENT
DTSTART:20201120T013000Z
DTEND:20201120T033000Z
X-MICROSOFT-CDO-ALLDAYEVENT:FALSE
SUMMARY:Shop Local - Couch Shopping Event
DESCRIPTION:The Sausalito Chamber is hosting an opportunity for everyone to shop locally right from home\, via Zoom. 10-12 local businesses will have special holiday offers for those in attendance. So sign up via Eventbrite to join the fun https://bit.ly/3ec2V4h. There will be prizes\, fun and friendship while supporting local.
X-ALT-DESC;FMTTYPE=text/html:<span style="color: rgb(5\, 5\, 5)\; font-family: &quot\;Segoe UI Historic&quot\;\, &quot\;Segoe UI&quot\;\, Helvetica\, Arial\, sans-serif\; font-size: 15px\; background-color: rgb(255\, 255\, 255)\;">The Sausalito Chamber is hosting an opportunity for everyone to shop locally right from home\, via Zoom. 10-12 local businesses will have special holiday offers for those in attendance. So sign up via Eventbrite to join the fun&nbsp\;</span><a class="oajrlxb2 g5ia77u1 qu0x051f esr5mh6w e9989ue4 r7d6kgcz rq0escxv nhd2j8a9 nc684nl6 p7hjln8o kvgmc6g5 cxmmr5t8 oygrvhab hcukyx3x jb3vyjys rz4wbd8a qt6c0cv9 a8nywdso i1ao9s8h esuyzwwr f1sip0of lzcic4wl py34i1dx gpro0wi8" href="https://l.facebook.com/l.php?u=https%3A%2F%2Fbit.ly%2F3ec2V4h%3Ffbclid%3DIwAR1C6j8UWpeiIsav-cCOAO-KLY3c6nGXaX8k3VkVsTvZse7IZufpb3Muvyw&amp\;h=AT1-JXh5DNt7fOep1nEatRNy-mhjvG9uqlXFPcLsWse2CG-WEWMbjX-OBkQg5RW_jj0fmV9WiWD3ucXjel3FolylXUI5dWbdaN5U7g1Juf7i61c8IM_h7_m55EgWmOkdT-m9Rj6O2sA8TLzGgw&amp\;__tn__=q&amp\;c[0]=AT2hzNPtYJTSBBWh9_PZcHqOb10zifAFTonY3scDmbiNpQu50OkP8vqgE30ngtTOj7e_0HoS60fVQbC5mYkXDcV7ofHiRLH2OvPYRR7j9XhrUGpQ3UZYlWVnfxY1LC_InziXMfswR3ZyCI0FZBCx3RdY" rel="nofollow noopener" role="link" style="cursor: pointer\; text-decoration-line: none\; outline: none\; list-style: none\; border-width: 0px\; border-style: initial\; border-color: initial\; padding: 0px\; margin: 0px\; touch-action: manipulation\; background-color: rgb(255\, 255\, 255)\; display: inline\; -webkit-tap-highlight-color: transparent\; box-sizing: border-box\; font-family: &quot\;Segoe UI Historic&quot\;\, &quot\;Segoe UI&quot\;\, Helvetica\, Arial\, sans-serif\; font-size: 15px\;" tabindex="0" target="_blank">https://bit.ly/3ec2V4h</a><span style="color: rgb(5\, 5\, 5)\; font-family: &quot\;Segoe UI Historic&quot\;\, &quot\;Segoe UI&quot\;\, Helvetica\, Arial\, sans-serif\; font-size: 15px\; background-color: rgb(255\, 255\, 255)\;">. There will be prizes\, fun and friendship while supporting local.</span><span style="color: rgb(5\, 5\, 5)\; font-family: &quot\;Segoe UI Historic&quot\;\, &quot\;Segoe UI&quot\;\, Helvetica\, Arial\, sans-serif\; font-size: 15px\; background-color: rgb(255\, 255\, 255)\;">&nbsp\;</span>
LOCATION:Via Zoom - You must register via Eventbrite to join the fun https://bit.ly/3ec2V4h.
UID:e.1780.2800
SEQUENCE:3
DTSTAMP:20260422T192830Z
URL:http://business.sausalito.org/events/details/shop-local-couch-shopping-event-2800
END:VEVENT

END:VCALENDAR
