BEGIN:VCALENDAR
VERSION:2.0
PRODID:-//ChamberMaster//Event Calendar 2.0//EN
METHOD:PUBLISH
X-PUBLISHED-TTL:P3D
REFRESH-INTERVAL:P3D
CALSCALE:GREGORIAN
BEGIN:VEVENT
DTSTART:20190706T200000Z
DTEND:20190706T210000Z
X-MICROSOFT-CDO-ALLDAYEVENT:FALSE
SUMMARY:Ship Operations in the Bay
DESCRIPTION:Join Captain Craig Thomas of Agile Marine as he provides a better understanding of commercial shipping operations and movements in the Bay. The program includes the types of ships\, ship construction and layout\, commercial considerations\, types and locations of terminals in the Bay Area\, manning requirements including careers and International\, U.S. and California Regulations. A typical voyage for a tanker and container ship will be tracked from outside the bay\, into a terminal\, carrying out cargo operations\, and departing to sea towards the next port.
X-ALT-DESC;FMTTYPE=text/html:Join Captain Craig Thomas of Agile Marine as he provides a better understanding of commercial shipping operations and movements in the Bay. The program includes the types of ships\, ship construction and layout\, commercial considerations\, types and locations of terminals in the Bay Area\, manning requirements including careers and International\, U.S. and California Regulations. A typical voyage for a tanker and container ship will be tracked from outside the bay\, into a terminal\, carrying out cargo operations\, and departing to sea towards the next port.
LOCATION:Bay Model Visitor Center 2100 Bridgeway Sausalito\, CA 94965 415-332-3871 https://www.spn.usace.army.mil/Missions/Recreation/Bay-Model-Visitor-Center/
UID:e.1780.2004
SEQUENCE:3
DTSTAMP:20260423T203243Z
URL:http://business.sausalito.org/events/details/ship-operations-in-the-bay-2004
END:VEVENT

END:VCALENDAR
