BEGIN:VCALENDAR
VERSION:2.0
PRODID:-//ChamberMaster//Event Calendar 2.0//EN
METHOD:PUBLISH
X-PUBLISHED-TTL:P3D
REFRESH-INTERVAL:P3D
CALSCALE:GREGORIAN
BEGIN:VEVENT
DTSTART:20200925T003000Z
DTEND:20200925T020000Z
X-MICROSOFT-CDO-ALLDAYEVENT:FALSE
SUMMARY:September Virtual Mixer - Music Trivia Workout
DESCRIPTION:Join us for a virtual event in partnership with Sausalito Fitness Club and Cavallo Point's Rick Tosh of Brainstormer Trivia.  Learn some indoor workout tips from Joubert\, owner of Sausalito Fitness Club and show off all your music knowledge with Quizmaster Rick Tosh of Brainstormer Trivia.
X-ALT-DESC;FMTTYPE=text/html:Join us for a virtual event in partnership with Sausalito Fitness Club and Cavallo Point&#39\;s Rick Tosh of Brainstormer Trivia.&nbsp\; Learn some indoor workout tips from Joubert\, owner of Sausalito Fitness Club and show off all your music knowledge with Quizmaster Rick Tosh of Brainstormer Trivia.&nbsp\;&nbsp\;
LOCATION:Zoom Mixer Topic: September Chamber Mixer Time: Sep 24\, 2020 05:30 PM Pacific Time (US and Canada) Join Zoom Meeting https://us02web.zoom.us/j/84347078391?pwd=cHA3Q1hvcnliMlQ3cm5zUnF6ZVNWdz09 Meeting ID: 843 4707 8391 Passcode: 796187
UID:e.1780.2528
SEQUENCE:3
DTSTAMP:20260422T222820Z
URL:http://business.sausalito.org/events/details/september-virtual-mixer-music-trivia-workout-2528
END:VEVENT

END:VCALENDAR
